BEGIN:VCALENDAR
VERSION:2.0
PRODID:-//Academia Brasileira de Gnose - ECPv6.7.0//NONSGML v1.0//EN
CALSCALE:GREGORIAN
METHOD:PUBLISH
X-ORIGINAL-URL:https://gnose.org.br
X-WR-CALDESC:Eventos para Academia Brasileira de Gnose
REFRESH-INTERVAL;VALUE=DURATION:PT1H
X-Robots-Tag:noindex
X-PUBLISHED-TTL:PT1H
BEGIN:VTIMEZONE
TZID:America/Sao_Paulo
BEGIN:STANDARD
TZOFFSETFROM:-0300
TZOFFSETTO:-0300
TZNAME:-03
DTSTART:20240101T000000
END:STANDARD
END:VTIMEZONE
BEGIN:VEVENT
DTSTART;TZID=America/Sao_Paulo:20240330T150000
DTEND;TZID=America/Sao_Paulo:20240330T180000
DTSTAMP:20260422T074658
CREATED:20240209T113827Z
LAST-MODIFIED:20240210T175106Z
UID:14130-1711810800-1711821600@gnose.org.br
SUMMARY:MEDITAÇÃO CONSCIENTE - A Busca do Coração Tranquilo
DESCRIPTION:O que será abordado neste Seminário: \n\n\n\n\nQuais são os benefícios e objetivos da meditação\n\n\n\nA diferença entre mindfullness e a meditação mística\n\n\n\nO mecanismo e a divisão da mente humana\n\n\n\nA importância da meditação no caminho espiritual\n\n\n\nMeditação é o pão diário do sábio\n\n\n\nMeditar é ouvir Deus\n\n\n\nOs cinco degraus da meditação profunda\n\n\n\nA meditação como prática na vida diária\n\n\n\nO que é meditação shamatha (shi-ne)\n\n\n\n\nEvento Gratuito \n\n\n\nTodos são bem-vindos!
URL:https://gnose.org.br/eventos/meditacao-consciente-a-busca-do-coracao-tranquilo/
LOCATION:ACADEMIA BRASILEIRA DE GNOSE\, Rua José Tomasi\, 824 Santa Felicidade\, Curitiba\, PR\, 82015-630\, Brasil
CATEGORIES:Curitiba
ATTACH;FMTTYPE=image/png:https://gnose.org.br/wp-content/uploads/2024/02/SEMINARIO-PASCOA-AGENDA-Meditacao-Consciente.png
ORGANIZER;CN="Academia Brasileira de Gnose":MAILTO:faleconosco@gnose.org.br
END:VEVENT
END:VCALENDAR