BEGIN:VCALENDAR
VERSION:2.0
PRODID:-//Academia Brasileira de Gnose - ECPv6.7.0//NONSGML v1.0//EN
CALSCALE:GREGORIAN
METHOD:PUBLISH
X-WR-CALNAME:Academia Brasileira de Gnose
X-ORIGINAL-URL:https://gnose.org.br
X-WR-CALDESC:Eventos para Academia Brasileira de Gnose
REFRESH-INTERVAL;VALUE=DURATION:PT1H
X-Robots-Tag:noindex
X-PUBLISHED-TTL:PT1H
BEGIN:VTIMEZONE
TZID:America/Sao_Paulo
BEGIN:STANDARD
TZOFFSETFROM:-0300
TZOFFSETTO:-0300
TZNAME:-03
DTSTART:20240101T000000
END:STANDARD
END:VTIMEZONE
BEGIN:VEVENT
DTSTART;TZID=America/Sao_Paulo:20240430T200000
DTEND;TZID=America/Sao_Paulo:20240430T200000
DTSTAMP:20260419T213325
CREATED:20240209T220118Z
LAST-MODIFIED:20240310T191010Z
UID:14147-1714507200-1714507200@gnose.org.br
SUMMARY:REENCARNAÇÃO\, RESSURREIÇÃO E RETORNO - Morte\, Vida e Renascimentos
DESCRIPTION:Você sabia que a reencarnação foi retirada do Novo Testamento no Concílio Ecumênico de Constantinopla em 553? E que nesse mesmo concílio se oficializou a negação da pré-existência do Espírito? \n\n\n\nA essência da reencarnação e da ressurreição se sintetiza nesta expressão: O espírito ressurge ou ressuscita num novo corpo criado para ele. Muitos dizem que a palavra reencarnação não está na Bíblia. Mas o fato é que a reencarnação sempre foi proclamada pelas culturas religiosas orientais\, mesmo antes do cristianismo. Além disso\, o próprio Cristo falava abertamente da reencarnação\, como se vê em Mateus 11:14\, onde ele fala que João Batista é Elias. \n\n\n\nEste será o tema de nossa aula presencial\, que tratará ainda das diferenças entre retorno e reencarnação – A lei da transmigração das almas – O Umbral – O julgamento e o destino da alma após a morte – A vida nos 3 mundos: Céu\, Inferno e Terra e muitos outros. \n\n\n\nO que será abordado nesta aula: \n\n\n\n\nAs diferenças entre retorno e reencarnação\n\n\n\nA lei da transmigração das almas\n\n\n\nO Umbral\n\n\n\nO destino da alma após a morte\n\n\n\nO julgamento\n\n\n\nOs ciclos de 108 vidas\n\n\n\nA vida nos 3 mundos: Céu\, Inferno e Terra\n\n\n\nÉ possível morrer “acordado”? Ter consciência após a morte? Por que temos medo da morte?\n\n\n\nA importância de se libertar das leis mecânicas da natureza\n\n\n\nNo julgamento\, o que os senhores da lei levam em conta\n\n\n\nCéu\, paraíso e inferno: onde ficam\n\n\n\nComo atuam os anjos da morte?\n\n\n\nDiferenças entre reencarnação\, retorno e recorrência\n\n\n\nComo saber se somos alma jovem ou antiga?\n\n\n\n\nEvento Gratuito \n\n\n\nCompareça \n\n\n\nTodos são bem-vindos!
URL:https://gnose.org.br/eventos/reencarnacao-ressurreicao-e-retorno-morte-vida-e-renascimentos/
LOCATION:ACADEMIA BRASILEIRA DE GNOSE\, Rua José Tomasi\, 824 Santa Felicidade\, Curitiba\, PR\, 82015-630\, Brasil
CATEGORIES:Curitiba
ATTACH;FMTTYPE=image/png:https://gnose.org.br/wp-content/uploads/2024/02/AULA-11-AGENDA-Reencarnacao-Ressurreicao-e-Retorno-.png
ORGANIZER;CN="Academia Brasileira de Gnose":MAILTO:faleconosco@gnose.org.br
END:VEVENT
END:VCALENDAR