BEGIN:VCALENDAR
VERSION:2.0
PRODID:-//Academia Brasileira de Gnose - ECPv6.7.0//NONSGML v1.0//EN
CALSCALE:GREGORIAN
METHOD:PUBLISH
X-ORIGINAL-URL:https://gnose.org.br
X-WR-CALDESC:Eventos para Academia Brasileira de Gnose
REFRESH-INTERVAL;VALUE=DURATION:PT1H
X-Robots-Tag:noindex
X-PUBLISHED-TTL:PT1H
BEGIN:VTIMEZONE
TZID:America/Sao_Paulo
BEGIN:STANDARD
TZOFFSETFROM:-0300
TZOFFSETTO:-0300
TZNAME:-03
DTSTART:20230101T000000
END:STANDARD
END:VTIMEZONE
BEGIN:VEVENT
DTSTART;TZID=America/Sao_Paulo:20230627T200000
DTEND;TZID=America/Sao_Paulo:20230627T220000
DTSTAMP:20260425T134749
CREATED:20210821T232223Z
LAST-MODIFIED:20230222T224736Z
UID:12494-1687896000-1687903200@gnose.org.br
SUMMARY:PROJEÇÃO ASTRAL -  Viagem ao Desconhecido
DESCRIPTION:Principais pontos que serão abordados nesta aula: \n– Sabia que toda noite\, quando vc dorme sai em astral?\n– Como lembrar de que está no mundo dos sonhos?\n– Aprenda a visitar todos os cantos do mundo sem sair de casa!\n– Como manejar à vontade sua saída astral\n– Aprenda a conversar com os seres celestiais\, a estudar\, pedir ajuda… \n“É indispensável saber que no astral as coisas são vistas tal como aqui\, no plano físico. As pessoas\, durante o sono\, e depois da morte\, veem lá tal qual aqui\, no mundo físico\, sendo que nem sequer suspeitam estar fora do corpo físico. Nenhum falecido jamais acredita estar morto\, porque está fascinado e dorme profundamente. \nSe os falecidos tivessem realizado a prática de se lembrar de si mesmos de momento a momento quando ainda viviam\, se tivessem lutado contra a fascinação das coisas do mundo\, o resultado seria o despertar da consciência; então\, não estariam dormindo. Andariam nos mundos internos com a consciência desperta”.  Do livro – Matrimônio Perfeito – Samael Aun Weor\nTodos são bem vindos!\nVenha participar.
URL:https://gnose.org.br/eventos/projecao-astral-viagem-ao-desconhecido-2/
LOCATION:Sede da Abragnose\, Rua José Tomasi\, 824 Santa Felicidade\, Curitiba\, PR\, 82015-630\, Brasil
CATEGORIES:Curitiba
ORGANIZER;CN="Academia Brasileira de Gnose":MAILTO:faleconosco@gnose.org.br
END:VEVENT
END:VCALENDAR