BEGIN:VCALENDAR
VERSION:2.0
PRODID:-//Academia Brasileira de Gnose - ECPv6.7.0//NONSGML v1.0//EN
CALSCALE:GREGORIAN
METHOD:PUBLISH
X-WR-CALNAME:Academia Brasileira de Gnose
X-ORIGINAL-URL:https://gnose.org.br
X-WR-CALDESC:Eventos para Academia Brasileira de Gnose
REFRESH-INTERVAL;VALUE=DURATION:PT1H
X-Robots-Tag:noindex
X-PUBLISHED-TTL:PT1H
BEGIN:VTIMEZONE
TZID:America/Sao_Paulo
BEGIN:STANDARD
TZOFFSETFROM:-0300
TZOFFSETTO:-0300
TZNAME:-03
DTSTART:20250101T000000
END:STANDARD
END:VTIMEZONE
BEGIN:VEVENT
DTSTART;TZID=America/Sao_Paulo:20251014T200000
DTEND;TZID=America/Sao_Paulo:20251014T220000
DTSTAMP:20260419T212238
CREATED:20250924T202601Z
LAST-MODIFIED:20250924T202610Z
UID:14921-1760472000-1760479200@gnose.org.br
SUMMARY:MAGIA BRANCA E A PREPARAÇÃO DO MAGO
DESCRIPTION:Esse será o tema da nossa próxima Aula presencial\, dia 14 de Outubro de 2025\, Terça-feira das 20:00h à 22:00h\, na sede da ABRAGNOSE! \n\n\n\nO que será abordado nesta aula: \n\n\n\n\nO que caracteriza e diferencia magia branca de magia negra\n\n\n\nMagia está ao alcance a todas as pessoas que tenham boa vontade de conhecer os mistérios da vida e da morte\n\n\n\nPorque a magia está destinada aos iniciados\, aos verdadeiros magos\n\n\n\nComo e quais são os passos e condições para chegar a exercer a magia branca\n\n\n\nSenhora do amor e do ódio\, pode a magia\, à vontade\, oferecer aos corações humanos o paraíso ou o inferno\n\n\n\nO que todo mago deve saber e quais são seus mandamentos\n\n\n\nA Prática da Magia branca (Rituais\, Conjurações\, Invocações\, Símbolos mágicos\, Orações e fórmulas de poder)\n\n\n\nA força dos elementais e as Plantas sagradas\n\n\n\n\n“Não há força superior\, em todo o universo\, à do Amor. Quanto mais próximo estiver o mago da força do amor impessoal e divino\, maior será seu poder e maiores serão suas obras”.“O Amor\, sem dúvida\, é o ingrediente íntimo da Magia. É evidente que a substância maravilhosa do amor atua magicamente”. \n\n\n\nSamael Aun Weor – do livro Parsifal Revelado \n\n\n\nEvento Gratuito\, com prática ao final \n\n\n\nTodos são bem vindos! \n\n\n\n \n\n\n\n#gnose #gnosis #gnosticismo #samaelaunweor #esoterismo #espiritualidade #religião #sabedoria #magia #mago #cristo #misteriosespirituais #mandamentosdomago #conjurações #invocações #orações #rituais #simbologia #plantassagradas #cura
URL:https://gnose.org.br/eventos/magia-branca-e-a-preparacao-do-mago-3/
LOCATION:Sede da Abragnose\, Rua José Tomasi\, 824 Santa Felicidade\, Curitiba\, PR\, 82015-630\, Brasil
ATTACH;FMTTYPE=image/png:https://gnose.org.br/wp-content/uploads/2025/09/CAPA-AGENDA-AULA-DIA-1410.png
END:VEVENT
BEGIN:VEVENT
DTSTART;TZID=America/Sao_Paulo:20251021T200000
DTEND;TZID=America/Sao_Paulo:20251021T220000
DTSTAMP:20260419T212238
CREATED:20250924T221008Z
LAST-MODIFIED:20250924T221014Z
UID:14924-1761076800-1761084000@gnose.org.br
SUMMARY:SIMBOLOGIA E ORIGENS DA MAGIA 
DESCRIPTION:Esse será o tema da nossa próxima Aula presencial\, dia 21 de Outubro de 2025\, Terça-feira das 20:00h à 22:00h\, na sede da ABRAGNOSE! \n\n\n\nO que será abordado nesta aula: \n\n\n\n\nO que é magia branca\n\n\n\nSimbolismo\, ritualística e procedimentos\n\n\n\nExorcismos\, conjuros e palavras de poder\n\n\n\nOs 4 elementos\n\n\n\nOs diferentes tipos de magia\n\n\n\nA magia e a astroteurgia\n\n\n\nA preparação do mago branco\n\n\n\nO uso do pentagrama esotérico\n\n\n\nComo os símbolos influenciam nossas vidas\n\n\n\nSimbologia nas escolas de mistérios e nas religiões é diferente?\n\n\n\n\nEvento Gratuito\, com prática ao final \n\n\n\nTodos são bem vindos! \n\n\n\n \n\n\n\n#gnose #gnosis #gnosticismo #samaelaunweor #esoterismo #espiritualidade #religião #sabedoria #anjos #astroteurgia #conjuração #cosmocratores #escolademistério #exorcismo #magia #mago #pentagrama #ritual #simbologia
URL:https://gnose.org.br/eventos/simbologia-e-origens-da-magia/
LOCATION:Sede da Abragnose\, Rua José Tomasi\, 824 Santa Felicidade\, Curitiba\, PR\, 82015-630\, Brasil
ATTACH;FMTTYPE=image/png:https://gnose.org.br/wp-content/uploads/2025/09/CAPA-AGENDA-AULA-DIA-2110.png
END:VEVENT
BEGIN:VEVENT
DTSTART;TZID=America/Sao_Paulo:20251025T143000
DTEND;TZID=America/Sao_Paulo:20251025T173000
DTSTAMP:20260419T212238
CREATED:20250930T191031Z
LAST-MODIFIED:20251007T130519Z
UID:14930-1761402600-1761413400@gnose.org.br
SUMMARY:A ARTE SECRETA DA MAGIA BRANCA - UM SEMINÁRIO PARA OS QUE BUSCAM SERVIR À LUZ
DESCRIPTION:A ARTE SECRETA DA MAGIA BRANCA – UM SEMINÁRIO PARA OS QUE BUSCAM SERVIR À LUZ \n\n\n\nEsse será o tema do nosso Seminário Especial\, dia 25 de Outubro de 2025\, Sábado das 14:30h às 17:30h\, na sede da ABRAGNOSE! \n\n\n\nO que será abordado nesse Seminário: \n\n\n\n\nO que é Magia?\n\n\n\nA Luz Astral – O Agente da Magia\n\n\n\nPara que serve a magia\n\n\n\nPreparação do Mago\n\n\n\nOs 4 mandamentos do mago\n\n\n\nO significado da Esfinge\n\n\n\nCuidados e orientações\n\n\n\nSons e Mantras\n\n\n\nOrações Poderosas\n\n\n\nMantras de Limpeza e Proteção\n\n\n\nO Pentagrama\, os Sinais Esotéricos e o Altar\n\n\n\nConjurações\, Invocações e Exorcismos\n\n\n\nRecomendações importantes para Práticas\n\n\n\nTipos de Magia\n\n\n\nPor Onde Começar?\n\n\n\n\n \n\n\n\nEvento Gratuito \n\n\n\nTodos são bem-vindos! \n\n\n\n \n\n\n\n#gnose #gnosis #gnosticismo #samaelaunweor #esoterismo #espiritualidade #religiao #sabedoria #magia #magiabranca #luzdivina #servir
URL:https://gnose.org.br/eventos/a-arte-secreta-da-magia-branca-um-seminario-para-os-que-buscam-servir-a-luz/
LOCATION:Sede da Abragnose\, Rua José Tomasi\, 824 Santa Felicidade\, Curitiba\, PR\, 82015-630\, Brasil
ATTACH;FMTTYPE=image/png:https://gnose.org.br/wp-content/uploads/2025/09/CAPA-AGENDA-SEMINARIO-DIA-2510.png
END:VEVENT
END:VCALENDAR