BEGIN:VCALENDAR
VERSION:2.0
PRODID:-//Academia Brasileira de Gnose - ECPv6.7.0//NONSGML v1.0//EN
CALSCALE:GREGORIAN
METHOD:PUBLISH
X-WR-CALNAME:Academia Brasileira de Gnose
X-ORIGINAL-URL:https://gnose.org.br
X-WR-CALDESC:Eventos para Academia Brasileira de Gnose
REFRESH-INTERVAL;VALUE=DURATION:PT1H
X-Robots-Tag:noindex
X-PUBLISHED-TTL:PT1H
BEGIN:VTIMEZONE
TZID:America/Sao_Paulo
BEGIN:STANDARD
TZOFFSETFROM:-0300
TZOFFSETTO:-0300
TZNAME:-03
DTSTART:20230101T000000
END:STANDARD
END:VTIMEZONE
BEGIN:VEVENT
DTSTART;TZID=America/Sao_Paulo:20231121T200000
DTEND;TZID=America/Sao_Paulo:20231121T220000
DTSTAMP:20260425T134703
CREATED:20190912T184748Z
LAST-MODIFIED:20230923T185650Z
UID:11053-1700596800-1700604000@gnose.org.br
SUMMARY:KUNDALINI\, ALQUIMIA\, MAGIA SEXUAL - Mistérios da Vida e da Morte
DESCRIPTION:O que será abordado nesta aula:– Quem é Kundalini Shakti e onde está localizada em nosso corpo– Quais são as condições para que Kundalini desperte no Iniciado– Porque somente Kundalini permite abrir os ferrolhos da tenebrosa prisão onde a alma se encontra– Os 5 aspectos de Kundalini que se manifestam na vida do Iniciado– A prova máxima que são submetidos os Iniciados que almejam a Magistratura do Espírito \n“ – Meu filho! Tens que sofrer com paciência as consequências dos teus erros\, exclamou minha Mãe Divina Kundalini.”“Meu filho\, tu\, sem mim\, na hora da morte\, estarias completamente órfão.”  Samael Aun Weor – Citações do livro As Três Montanhas \n“O iniciado que trilha a Senda dos Mistérios Maiores não está sozinho; KUNDALINI só desperta e evolui se o iniciado tiver MÉRITOS e QUALIDADES MORAIS E ESPIRITUAIS à toda prova” (Karl Bunn) \nTodos são bem-vindos. \nVenha participar!
URL:https://gnose.org.br/eventos/kundalini-alquimia-magia-sexual-misterios-da-vida-e-da-morte/
LOCATION:Rua José Tomasi\, 824 Santa Felicidade\, Rua José Tomasi\, 824 Santa Felicidade\, Curitiba\, PR\, 82015-630\, Brasil
CATEGORIES:Curitiba
ATTACH;FMTTYPE=image/jpeg:https://gnose.org.br/wp-content/uploads/2019/09/KUNDALINI-ALQUIMIA-MAGIA-SEXUAL.jpg
ORGANIZER;CN="Academia Brasileira de Gnose":MAILTO:faleconosco@gnose.org.br
END:VEVENT
END:VCALENDAR