BEGIN:VCALENDAR
VERSION:2.0
PRODID:-//Academia Brasileira de Gnose - ECPv6.7.0//NONSGML v1.0//EN
CALSCALE:GREGORIAN
METHOD:PUBLISH
X-ORIGINAL-URL:https://gnose.org.br
X-WR-CALDESC:Eventos para Academia Brasileira de Gnose
REFRESH-INTERVAL;VALUE=DURATION:PT1H
X-Robots-Tag:noindex
X-PUBLISHED-TTL:PT1H
BEGIN:VTIMEZONE
TZID:America/Sao_Paulo
BEGIN:STANDARD
TZOFFSETFROM:-0300
TZOFFSETTO:-0300
TZNAME:-03
DTSTART:20240101T000000
END:STANDARD
END:VTIMEZONE
BEGIN:VEVENT
DTSTART;TZID=America/Sao_Paulo:20240604T200000
DTEND;TZID=America/Sao_Paulo:20240604T200000
DTSTAMP:20260421T202428
CREATED:20240210T160742Z
LAST-MODIFIED:20240210T180622Z
UID:14159-1717531200-1717531200@gnose.org.br
SUMMARY:A EVOLUÇÃO ESPIRITUAL POSSÍVEL DO HOMEM - O Ser Humano pode se Transformar em Deus (se quiser)
DESCRIPTION:O que será abordado nesta aula: \n\n\n\n\nO ser humano tem potencial de se transformar em Deva\n\n\n\nPara isso tem que escapar da mecanicidade da vida e dos acontecimentos diários\n\n\n\nPrecisa assumir o controle de sua vida\, pensamentos e emoções e superar os instintos\n\n\n\nFalta de vontade e disciplina\n\n\n\nA humanidade está controlada por muitas leis naturais além das leis criadas pelos próprios humanos\n\n\n\nO autoconhecimento profundo é indispensável\n\n\n\nOs 5 centros psicofisiológicos que controlam a máquina humana\n\n\n\nOs níveis de ser e de saber\n\n\n\nEvoluir em que direção?\n\n\n\n\nEvento Gratuito \n\n\n\nTodos são bem-vindos!
URL:https://gnose.org.br/eventos/a-evolucao-espiritual-possivel-do-homem-o-ser-humano-pode-se-transformar-em-deus-se-quiser/
LOCATION:ACADEMIA BRASILEIRA DE GNOSE\, Rua José Tomasi\, 824 Santa Felicidade\, Curitiba\, PR\, 82015-630\, Brasil
CATEGORIES:Curitiba
ATTACH;FMTTYPE=image/png:https://gnose.org.br/wp-content/uploads/2024/02/AULA-16-AGENDA-A-evolucao-possivel-do-homem.png
ORGANIZER;CN="Academia Brasileira de Gnose":MAILTO:faleconosco@gnose.org.br
END:VEVENT
END:VCALENDAR