BEGIN:VCALENDAR
VERSION:2.0
PRODID:-//Academia Brasileira de Gnose - ECPv6.7.0//NONSGML v1.0//EN
CALSCALE:GREGORIAN
METHOD:PUBLISH
X-WR-CALNAME:Academia Brasileira de Gnose
X-ORIGINAL-URL:https://gnose.org.br
X-WR-CALDESC:Eventos para Academia Brasileira de Gnose
REFRESH-INTERVAL;VALUE=DURATION:PT1H
X-Robots-Tag:noindex
X-PUBLISHED-TTL:PT1H
BEGIN:VTIMEZONE
TZID:America/Sao_Paulo
BEGIN:STANDARD
TZOFFSETFROM:-0300
TZOFFSETTO:-0300
TZNAME:-03
DTSTART:20230101T000000
END:STANDARD
END:VTIMEZONE
BEGIN:VEVENT
DTSTART;TZID=America/Sao_Paulo:20230829T200000
DTEND;TZID=America/Sao_Paulo:20230829T220000
DTSTAMP:20260422T091317
CREATED:20200115T022923Z
LAST-MODIFIED:20230618T234929Z
UID:11492-1693339200-1693346400@gnose.org.br
SUMMARY:FILOSOFIA GNÓSTICA DE VIDA
DESCRIPTION:Principais pontos que serão abordados nesta aula: \n\nQuem somos? De onde viemos? Para onde vamos? Para que vivemos? Por que vivemos?\nPor que a Gnose propõe uma mudança radical para chegar a iluminação\nPara que desenvolver uma nova forma de pensar\, sentir e agir\nPoucos querem mudar\, pois para isso precisamos nos dar conta da situação em que nos encontramos\nO homem\, não só não sabe\, como nem sequer sabe que não sabe\nSaiba por que a ignorância é a pior das desgraças\nPara mudar\, conheça as principais práticas gnósticas\nConheça os 3 fatores para revolucionar sua consciência\n\n“A vida ordinária\, comum e corrente quer nos devorar implacavelmente. Precisamos lutar contra a vida todos os dias; precisamos aprender a nadar contra a correnteza.” \nSAW – Psicologia Revolucionária \nTodos são bem-vindos. \nVenha participar! \nTodos são bem vindos!Venha participar. \n 
URL:https://gnose.org.br/eventos/filosofia-gnostica-de-vida-6/
LOCATION:Rua José Tomasi\, 824 Santa Felicidade\, Rua José Tomasi\, 824 Santa Felicidade\, Curitiba\, PR\, 82015-630\, Brasil
ATTACH;FMTTYPE=image/jpeg:https://gnose.org.br/wp-content/uploads/2020/01/FILOSOFIA-GNOSTICA-DE-VIDA.jpg
ORGANIZER;CN="Academia Brasileira de Gnose":MAILTO:faleconosco@gnose.org.br
END:VEVENT
END:VCALENDAR