BEGIN:VCALENDAR
VERSION:2.0
PRODID:-//Academia Brasileira de Gnose - ECPv6.7.0//NONSGML v1.0//EN
CALSCALE:GREGORIAN
METHOD:PUBLISH
X-WR-CALNAME:Academia Brasileira de Gnose
X-ORIGINAL-URL:https://gnose.org.br
X-WR-CALDESC:Eventos para Academia Brasileira de Gnose
REFRESH-INTERVAL;VALUE=DURATION:PT1H
X-Robots-Tag:noindex
X-PUBLISHED-TTL:PT1H
BEGIN:VTIMEZONE
TZID:America/Sao_Paulo
BEGIN:STANDARD
TZOFFSETFROM:-0300
TZOFFSETTO:-0300
TZNAME:-03
DTSTART:20230101T000000
END:STANDARD
END:VTIMEZONE
BEGIN:VEVENT
DTSTART;TZID=America/Sao_Paulo:20230919T200000
DTEND;TZID=America/Sao_Paulo:20230919T220000
DTSTAMP:20260422T110449
CREATED:20190701T010057Z
LAST-MODIFIED:20230719T224039Z
UID:10508-1695153600-1695160800@gnose.org.br
SUMMARY:EVOLUIR OU INVOLUIR - Uma Escolha Obrigatória
DESCRIPTION:Principais pontos abordados nesta aula: \n– Por que temos que fazer escolhas obrigatoriamente\n– Como rever velhos conceitos para se abrir ao novo\n– Qual é a única evolução possível para o ser humano\n– Se não escolhemos nada\, o que acontece\n– O que é uma revolução completa que a gnose propõe para mudar nossa vida \n“Precisamos nos libertar da lei da evolução e também da lei da involução. Precisamos dar o Grande Salto\, para cair no Vazio Iluminador.” \n“Precisamos nos libertar precisamente da Lei do Karma. Precisamos nos livrar desse movimento mecânico da natureza. Precisamos nos libertar\, mas isso não acontecerá através da evolução mecânica. \n“Qualquer evolução mecânica se processa de acordo com as leis de causa e efeito\, das leis das associações\, das combinações múltiplas\, etc. O que é mecânico\, é mecânico.”  Samael Aun Weor – do Livro Amarelo \nTodos são bem vindos!\nVenha participar!
URL:https://gnose.org.br/eventos/evoluir-ou-involuir-uma-escolha-obrigatoria/
LOCATION:Sede da Abragnose\, Rua José Tomasi\, 824 Santa Felicidade\, Curitiba\, PR\, 82015-630\, Brasil
CATEGORIES:Curitiba
ATTACH;FMTTYPE=image/png:https://gnose.org.br/wp-content/uploads/2019/06/EVOLUIR-OU-INVOLUIR-1.png
ORGANIZER;CN="Academia Brasileira de Gnose":MAILTO:faleconosco@gnose.org.br
END:VEVENT
END:VCALENDAR