BEGIN:VCALENDAR
VERSION:2.0
PRODID:-//Academia Brasileira de Gnose - ECPv6.7.0//NONSGML v1.0//EN
CALSCALE:GREGORIAN
METHOD:PUBLISH
X-WR-CALNAME:Academia Brasileira de Gnose
X-ORIGINAL-URL:https://gnose.org.br
X-WR-CALDESC:Eventos para Academia Brasileira de Gnose
REFRESH-INTERVAL;VALUE=DURATION:PT1H
X-Robots-Tag:noindex
X-PUBLISHED-TTL:PT1H
BEGIN:VTIMEZONE
TZID:America/Sao_Paulo
BEGIN:STANDARD
TZOFFSETFROM:-0300
TZOFFSETTO:-0300
TZNAME:-03
DTSTART:20250101T000000
END:STANDARD
END:VTIMEZONE
BEGIN:VEVENT
DTSTART;TZID=America/Sao_Paulo:20251220T143000
DTEND;TZID=America/Sao_Paulo:20251220T173000
DTSTAMP:20260419T170108
CREATED:20251201T112854Z
LAST-MODIFIED:20251214T110752Z
UID:15018-1766241000-1766251800@gnose.org.br
SUMMARY:A TRADIÇÃO DO NATAL E A JORNADA OCULTA À CONSCIÊNCIA
DESCRIPTION:Esse será o tema do nosso Seminário Especial\, dia 20 de Dezembro de 2025\, Sábado das 14:30h às 17:30h\, na sede da ABRAGNOSE! \n\n\n\nO que será abordado nesse Seminário: \n\n\n\n\nO Cristo não é um indivíduo\, mas o Natal é absolutamente individual\n\n\n\nO Natal e o Ciclo Solar\n\n\n\nO Drama Cósmico do Cristo\n\n\n\nPodemos nos Cristificar\n\n\n\nSimbologia dos Evangelhos e do Presépio\n\n\n\nO Papai Noel de Cada Um\n\n\n\nViver os ensinamentos do Cristo no Coração\n\n\n\n\n“O Natal é um acontecimento cósmico que deve realizar-se em cada um de nós.O Natal é absolutamente individual. Há necessidade de que nasça em nós o Cristo; é urgente o Natal do coração”.   Mestre Samael Aun Weor \n\n\n\nEvento Gratuito \n\n\n\nTodos são bem-vindos! \n\n\n\nPara saber sobre o calendário de nossas aulas\, acesse: https://gnose.org.br/eventos/ \n\n\n\nOrganizador: Academia Brasileira de Gnose \n\n\n\nTelefone:  41 3372-7038 / 41 9957 1169 \n\n\n\nE-mail: faleconosco@gnose.org.br \n\n\n\nEndereço: Rua José Tomasi\, 824 – Santa Felicidade – Curitiba – PR \n\n\n\n_________________ \n\n\n\nA ABRAGNOSE e IGREJA GNÓSTICA DO BRASIL sobrevivem de trabalhos voluntários! \n\n\n\nAjude-nos com essa missão! Venha conosco transformar este mundo. \n\n\n\nFaça sua doação para que possamos manter este trabalho: \n\n\n\nChave Pix: 14.578.176/0001-30 \n\n\n\n_________________ \n\n\n\n#gnose #gnosis #gnosticismo #samaelaunweor #esoterismo #espiritualidade #religiao #sabedoria  #caminhoespiritual #dramacosmico #iniciação #logossolar #magiadonatal #natal #simbolismodonatal #reismagos #ressureição #cristo-sol #arvoredenatal #nascimentodejesus
URL:https://gnose.org.br/eventos/os-misterios-iniciaticos-do-natal-e-dos-reis-magos/
LOCATION:Sede da Abragnose\, Rua José Tomasi\, 824 Santa Felicidade\, Curitiba\, PR\, 82015-630\, Brasil
ATTACH;FMTTYPE=image/png:https://gnose.org.br/wp-content/uploads/2025/12/CAPA-AGENDA-SEMINARIO-DIA-2012-1.png
END:VEVENT
END:VCALENDAR