BEGIN:VCALENDAR
VERSION:2.0
PRODID:-//Academia Brasileira de Gnose - ECPv6.7.0//NONSGML v1.0//EN
CALSCALE:GREGORIAN
METHOD:PUBLISH
X-WR-CALNAME:Academia Brasileira de Gnose
X-ORIGINAL-URL:https://gnose.org.br
X-WR-CALDESC:Eventos para Academia Brasileira de Gnose
REFRESH-INTERVAL;VALUE=DURATION:PT1H
X-Robots-Tag:noindex
X-PUBLISHED-TTL:PT1H
BEGIN:VTIMEZONE
TZID:America/Sao_Paulo
BEGIN:STANDARD
TZOFFSETFROM:-0300
TZOFFSETTO:-0300
TZNAME:-03
DTSTART:20250101T000000
END:STANDARD
END:VTIMEZONE
BEGIN:VEVENT
DTSTART;TZID=America/Sao_Paulo:20250520T200000
DTEND;TZID=America/Sao_Paulo:20250520T220000
DTSTAMP:20260420T032849
CREATED:20250505T212216Z
LAST-MODIFIED:20250505T212222Z
UID:14733-1747771200-1747778400@gnose.org.br
SUMMARY:REFLEXÕES SOBRE O CAMINHO INICIÁTICO - O ESTREITO CAMINHO ENTRE DOGMAS E MISTÉRIOS
DESCRIPTION:Esse será o tema da nossa próxima Aula presencial\, dia 20 de Maio de 2025\, Terça-feira das 20:00h à 22:00h\, na sede da ABRAGNOSE! \n\n\n\n\nO sentido da vida\n\n\n\nAs etapas do caminho iniciático\n\n\n\nDesafios e superações da iniciação\n\n\n\nO verdadeiro tesouro\n\n\n\nO destino da alma\n\n\n\nOs três pilares do caminho\n\n\n\nA psicologia iniciática\n\n\n\nNascer da água e do espírito\n\n\n\nO sacro-ofício\n\n\n\nAprender a viver\n\n\n\n\nEvento Gratuito\, com prática ao final \n\n\n\nTodos são bem-vindos!
URL:https://gnose.org.br/eventos/reflexoes-sobre-o-caminho-iniciatico-o-estreito-caminho-entre-dogmas-e-misterios-2/
LOCATION:Sede da Abragnose\, Rua José Tomasi\, 824 Santa Felicidade\, Curitiba\, PR\, 82015-630\, Brasil
ATTACH;FMTTYPE=image/png:https://gnose.org.br/wp-content/uploads/2025/05/CAPA-AGENDA-AULA-DIA-2005.png
END:VEVENT
END:VCALENDAR