BEGIN:VCALENDAR
VERSION:2.0
PRODID:-//Academia Brasileira de Gnose - ECPv6.7.0//NONSGML v1.0//EN
CALSCALE:GREGORIAN
METHOD:PUBLISH
X-WR-CALNAME:Academia Brasileira de Gnose
X-ORIGINAL-URL:https://gnose.org.br
X-WR-CALDESC:Eventos para Academia Brasileira de Gnose
REFRESH-INTERVAL;VALUE=DURATION:PT1H
X-Robots-Tag:noindex
X-PUBLISHED-TTL:PT1H
BEGIN:VTIMEZONE
TZID:America/Sao_Paulo
BEGIN:STANDARD
TZOFFSETFROM:-0300
TZOFFSETTO:-0300
TZNAME:-03
DTSTART:20250101T000000
END:STANDARD
END:VTIMEZONE
BEGIN:VEVENT
DTSTART;TZID=America/Sao_Paulo:20250218T200000
DTEND;TZID=America/Sao_Paulo:20250218T220000
DTSTAMP:20260420T073216
CREATED:20250126T150817Z
LAST-MODIFIED:20250305T205722Z
UID:14615-1739908800-1739916000@gnose.org.br
SUMMARY:EDUCAÇÃO PARA A CONSCIÊNCIA - PARA DESPERTAR OS TALENTOS DA ALMA
DESCRIPTION:O que será abordado nesta aula: \n\n\n\n•⁠ ⁠Você sabia que desde os tempos de Carlos Magno o ensino não mudou? \n\n\n\n•⁠ ⁠Educação é mais do que somente despejar conteúdos na memória dos estudantes \n\n\n\n•⁠ ⁠Mas qual deveria ser o verdadeiro propósito da Educação escolar? \n\n\n\n•⁠ ⁠A importância da prática e da experimentação direta no processo de aprendizado \n\n\n\n•⁠ ⁠Medo e imitação os grandes obstáculos do processo de aprendizado \n\n\n\n•⁠ ⁠A beleza e o poder da Compreensão \n\n\n\n•⁠ ⁠Conheceis a Verdade e ela vos libertará\, sim\, mas o que é a Verdade? \n\n\n\n•⁠ ⁠As divisões da Mente\, e como acessar a Consciência \n\n\n\n•⁠ ⁠Qual a diferença entre mente e Consciência? \n\n\n\n•⁠ ⁠O Processo de Aprendizado e os três centros de cognição do homem \n\n\n\n•⁠ ⁠As etapas e as técnicas para alcançar o Despertar a Consciência e começar a despertar os talentos da Alma \n\n\n\nEvento Gratuito\, com prática ao final \n\n\n\nTodos são bem vindos!
URL:https://gnose.org.br/eventos/educacao-para-a-consciencia-para-despertar-os-talentos-da-alma/
LOCATION:ACADEMIA BRASILEIRA DE GNOSE\, Rua José Tomasi\, 824 Santa Felicidade\, Curitiba\, PR\, 82015-630\, Brasil
ATTACH;FMTTYPE=image/png:https://gnose.org.br/wp-content/uploads/2025/01/CAPA-AGENDA-AULA-DIA-1802.png
END:VEVENT
END:VCALENDAR