BEGIN:VCALENDAR
VERSION:2.0
PRODID:-//Academia Brasileira de Gnose - ECPv6.7.0//NONSGML v1.0//EN
CALSCALE:GREGORIAN
METHOD:PUBLISH
X-ORIGINAL-URL:https://gnose.org.br
X-WR-CALDESC:Eventos para Academia Brasileira de Gnose
REFRESH-INTERVAL;VALUE=DURATION:PT1H
X-Robots-Tag:noindex
X-PUBLISHED-TTL:PT1H
BEGIN:VTIMEZONE
TZID:America/Sao_Paulo
BEGIN:STANDARD
TZOFFSETFROM:-0300
TZOFFSETTO:-0300
TZNAME:-03
DTSTART:20240101T000000
END:STANDARD
END:VTIMEZONE
BEGIN:VEVENT
DTSTART;TZID=America/Sao_Paulo:20241221T150000
DTEND;TZID=America/Sao_Paulo:20241221T180000
DTSTAMP:20260420T100347
CREATED:20241129T005847Z
LAST-MODIFIED:20241211T131840Z
UID:14584-1734793200-1734804000@gnose.org.br
SUMMARY:NATAL - CONHEÇA O SIGNIFICADO OCULTO
DESCRIPTION:O que será abordado nesta aula: \n\n\n\n•⁠  ⁠Origem e significado do Natal \n\n\n\n•⁠  ⁠O Natal nas Religiões Antigas \n\n\n\n•⁠  ⁠O simbolismo do presépio \n\n\n\n•⁠  ⁠O Drama cósmico do Cristo-Sol \n\n\n\n•⁠  ⁠O que é realmente o Cristo e onde nasce? \n\n\n\n•⁠  ⁠A encarnação do Cristo em nós \n\n\n\n•⁠  ⁠Nosso processo interno com os Solstícios e equinócios \n\n\n\n•⁠  ⁠A magia prática do Natal \n\n\n\nEvento Gratuito \n\n\n\nTodos são bem vindos!
URL:https://gnose.org.br/eventos/natal-conheca-o-significado-oculto-2/
LOCATION:Sede da Abragnose\, Rua José Tomasi\, 824 Santa Felicidade\, Curitiba\, PR\, 82015-630\, Brasil
ATTACH;FMTTYPE=image/png:https://gnose.org.br/wp-content/uploads/2024/12/CAPA-AGENDA-SEMINARIO-DIA-2112.png
END:VEVENT
END:VCALENDAR