BEGIN:VCALENDAR
VERSION:2.0
PRODID:-//Academia Brasileira de Gnose - ECPv6.7.0//NONSGML v1.0//EN
CALSCALE:GREGORIAN
METHOD:PUBLISH
X-ORIGINAL-URL:https://gnose.org.br
X-WR-CALDESC:Eventos para Academia Brasileira de Gnose
REFRESH-INTERVAL;VALUE=DURATION:PT1H
X-Robots-Tag:noindex
X-PUBLISHED-TTL:PT1H
BEGIN:VTIMEZONE
TZID:America/Sao_Paulo
BEGIN:STANDARD
TZOFFSETFROM:-0300
TZOFFSETTO:-0300
TZNAME:-03
DTSTART:20240101T000000
END:STANDARD
END:VTIMEZONE
BEGIN:VEVENT
DTSTART;TZID=America/Sao_Paulo:20241203T200000
DTEND;TZID=America/Sao_Paulo:20241203T220000
DTSTAMP:20260420T100344
CREATED:20241128T005144Z
LAST-MODIFIED:20241128T005337Z
UID:14577-1733256000-1733263200@gnose.org.br
SUMMARY:A PSICOLOGIA DA ALMA - Mude sua vida para sempre
DESCRIPTION:O que será abordado nesta aula: \n\n\n\n\nA verdadeira liberdade\n\n\n\nA felicidade\n\n\n\nO livro da vida\n\n\n\nRebeldia psicológica\n\n\n\nO que se entende por Alma?\n\n\n\nO querido ego e seus aspectos\n\n\n\nA verdadeira identidade\n\n\n\nA transformação radical\n\n\n\nTécnica avançada para libertar a Alma\n\n\n\nA oração\n\n\n\nO pão do sábio\n\n\n\n\nEvento Gratuito \n\n\n\nTodos são bem vindos!
URL:https://gnose.org.br/eventos/a-psicologia-da-alma-mude-sua-vida-para-sempre/
LOCATION:Sede da Abragnose\, Rua José Tomasi\, 824 Santa Felicidade\, Curitiba\, PR\, 82015-630\, Brasil
ATTACH;FMTTYPE=image/png:https://gnose.org.br/wp-content/uploads/2024/11/CAPA-AGENDA-AULA-DIA-0312.png
END:VEVENT
END:VCALENDAR