BEGIN:VCALENDAR
VERSION:2.0
PRODID:-//Academia Brasileira de Gnose - ECPv6.7.0//NONSGML v1.0//EN
CALSCALE:GREGORIAN
METHOD:PUBLISH
X-ORIGINAL-URL:https://gnose.org.br
X-WR-CALDESC:Eventos para Academia Brasileira de Gnose
REFRESH-INTERVAL;VALUE=DURATION:PT1H
X-Robots-Tag:noindex
X-PUBLISHED-TTL:PT1H
BEGIN:VTIMEZONE
TZID:America/Sao_Paulo
BEGIN:STANDARD
TZOFFSETFROM:-0300
TZOFFSETTO:-0300
TZNAME:-03
DTSTART:20250101T000000
END:STANDARD
END:VTIMEZONE
BEGIN:VEVENT
DTSTART;TZID=America/Sao_Paulo:20250805T200000
DTEND;TZID=America/Sao_Paulo:20250805T220000
DTSTAMP:20260419T211645
CREATED:20250723T213933Z
LAST-MODIFIED:20250723T213940Z
UID:14844-1754424000-1754431200@gnose.org.br
SUMMARY:O DESPERTAR DA FELICIDADE - COMO SUPERAR NOSSAS DEBILIDADES
DESCRIPTION:Esse será o tema da nossa próxima Aula presencial\, dia 05 de Agosto de 2025\, Terça-feira das 20:00h à 22:00h\, na sede da ABRAGNOSE! \n\n\n\nO que será abordado nesta aula: \n\n\n\n• O que é a verdadeira felicidade \n\n\n\n• As causas dos dramas de nossa existência \n\n\n\n• Eles estão em nós e não nos outros \n\n\n\n• Como saber\, compreender e superá-los \n\n\n\n• O poder Divino que temos internamente \n\n\n\n• A dissolução das adversidades \n\n\n\n• Resgate a vontade e alegria de viver \n\n\n\n• O poder da autotransformação em nossa vida \n\n\n\nEvento Gratuito\, com prática ao final \n\n\n\nTodos são bem vindos!
URL:https://gnose.org.br/eventos/o-despertar-da-felicidade-como-superar-nossas-debilidades-2/
LOCATION:Sede da Abragnose\, Rua José Tomasi\, 824 Santa Felicidade\, Curitiba\, PR\, 82015-630\, Brasil
ATTACH;FMTTYPE=image/png:https://gnose.org.br/wp-content/uploads/2025/07/CAPA-AGENDA-AULA-DIA-0508.png
END:VEVENT
BEGIN:VEVENT
DTSTART;TZID=America/Sao_Paulo:20250819T200000
DTEND;TZID=America/Sao_Paulo:20250819T220000
DTSTAMP:20260419T211645
CREATED:20250729T214152Z
LAST-MODIFIED:20250813T231515Z
UID:14851-1755633600-1755640800@gnose.org.br
SUMMARY:O PODER DA SERENIDADE E DA PACIÊNCIA
DESCRIPTION:Esse será o tema da nossa próxima Aula presencial\, dia 19 de Agosto de 2025\, Terça-feira das 20:00h à 22:00h\, na sede da ABRAGNOSE! \n\n\n\nO que será abordado nesta aula: \n\n\n\n\nPor onde começar e por que desenvolver a serenidade\n\n\n\nComo alcançar a felicidade através da paciência e da ação consciente\n\n\n\nComo superar o jeito de ser que nos complica a vida\n\n\n\nO coração tranquilo e a verdadeira e legítima felicidade\n\n\n\nO Santo Jó no século XXI\n\n\n\n\n“Aqueles que sofrem em seus lares deveriam multiplicar sua humildade\, sua paciência e serenidade. Não contestar com más palavras\, não tiranizar o próximo\, não atormentar os que nos rodeiam\, saber desculpar os defeitos alheios com uma paciência multiplicada até o infinito. Assim pagariam seu karma e se tornariam melhores. ” Samael Aun Weor –  do livro – Sim! Há inferno diabo e karma \n\n\n\nEvento Gratuito\, com prática ao final \n\n\n\nTodos são bem vindos!
URL:https://gnose.org.br/eventos/o-poder-da-serenidade-e-da-paciencia/
LOCATION:Sede da Abragnose\, Rua José Tomasi\, 824 Santa Felicidade\, Curitiba\, PR\, 82015-630\, Brasil
ATTACH;FMTTYPE=image/png:https://gnose.org.br/wp-content/uploads/2025/08/CAPA-AGENDA-AULA-DIA-1908.png
END:VEVENT
BEGIN:VEVENT
DTSTART;TZID=America/Sao_Paulo:20250830T143000
DTEND;TZID=America/Sao_Paulo:20250830T173000
DTSTAMP:20260419T211645
CREATED:20250802T124554Z
LAST-MODIFIED:20250803T133027Z
UID:14862-1756564200-1756575000@gnose.org.br
SUMMARY:PSICOLOGIA DA NOVA ERA - O CAMINHO DA AUTOTRANSFORMAÇÃO ESPIRITUAL
DESCRIPTION:Esse será o tema do nosso Seminário Especial\, dia 30 de Agosto de 2025\, Sábado das 14:30h às 17:30h\, na sede da ABRAGNOSE! \n\n\n\nO que será abordado nesse Seminário: \n\n\n\n\nO que é o verdadeiro autoconhecimento?\n\n\n\nSabemos sobre nossa anatomia física\, mas como é a nossa anatomia espiritual?\n\n\n\nQual é o nosso real perfil psicologico?\n\n\n\nPor que somos divididos e contraditórios?\n\n\n\nO que são os cinco centros da máquina humana.\n\n\n\nComo atuam dentro de nós os sete pecados capitais com suas derivações\n\n\n\nComo harmonizar as forças e princípios em nossa mente\n\n\n\nSe somos a imagem e semelhança de Deus\, onde está Deus dentro de nós?\n\n\n\n\nEvento Gratuito \n\n\n\nTodos são bem-vindos! \n\n\n\n \n\n\n\n#gnose #gnosis #gnosticismo  #espiritualidade #religião #sabedoria #esoterismo #psicologia #caminhoespiritual #reformaintima #psicologia #setepecados #autoconhecimento #anatomiaespiritual #centropsicofisiologicos #consciência
URL:https://gnose.org.br/eventos/psicologia-gnostica-o-caminho-da-autotransformacao-espiritual/
LOCATION:Sede da Abragnose\, Rua José Tomasi\, 824 Santa Felicidade\, Curitiba\, PR\, 82015-630\, Brasil
ATTACH;FMTTYPE=image/png:https://gnose.org.br/wp-content/uploads/2025/08/CAPA-AGENDA-SEMINARIO-DIA-3008-1.png
END:VEVENT
END:VCALENDAR