BEGIN:VCALENDAR
VERSION:2.0
PRODID:-//Academia Brasileira de Gnose - ECPv6.7.0//NONSGML v1.0//EN
CALSCALE:GREGORIAN
METHOD:PUBLISH
X-ORIGINAL-URL:https://gnose.org.br
X-WR-CALDESC:Eventos para Academia Brasileira de Gnose
REFRESH-INTERVAL;VALUE=DURATION:PT1H
X-Robots-Tag:noindex
X-PUBLISHED-TTL:PT1H
BEGIN:VTIMEZONE
TZID:America/Sao_Paulo
BEGIN:STANDARD
TZOFFSETFROM:-0300
TZOFFSETTO:-0300
TZNAME:-03
DTSTART:20250101T000000
END:STANDARD
END:VTIMEZONE
BEGIN:VEVENT
DTSTART;TZID=America/Sao_Paulo:20250506T200000
DTEND;TZID=America/Sao_Paulo:20250506T220000
DTSTAMP:20260420T015729
CREATED:20250427T190543Z
LAST-MODIFIED:20250427T190549Z
UID:14723-1746561600-1746568800@gnose.org.br
SUMMARY:VIAGEM ASTRAL – A VIAGEM AO DESCONHECIDO
DESCRIPTION:Esse será o tema da nossa próxima Aula presencial\, dia 06 de Maio de 2025\, Terça-feira das 20:00h à 22:00h\, na sede da ABRAGNOSE! \n\n\n\nO que será abordado nesta aula: \n\n\n\n\nVocê sabia que toda as noites\, enquanto dorme\, você viaja pelo mundo astral?\n\n\n\n⁠Como despertar quando estamos no mundo da quinta dimensão?\n\n\n\nComo manejar à vontade sua saída astral\n\n\n\nAprenda a visitar todos os cantos do mundo sem sair de casa!\n\n\n\nAprenda a conversar com os seres celestiais\, a estudar\, pedir ajuda…\n\n\n\nVisite o mundo dos mortos e converse com seus familiares que desencarnaram\n\n\n\nComo vemos as coisas quando estamos conscientes no mundo astral?\n\n\n\nComo não confundir desdobramento da alma com desdobramento do ego\n\n\n\nComo romper as dificuldades de sair em corpo astral\n\n\n\nQuais são os exercícios e práticas para sair em astral a vontade\n\n\n\n\nEvento Gratuito\, com prática ao final \n\n\n\nTodos são bem-vindos!
URL:https://gnose.org.br/eventos/viagem-astral-a-viagem-ao-desconhecido/
LOCATION:Sede da Abragnose\, Rua José Tomasi\, 824 Santa Felicidade\, Curitiba\, PR\, 82015-630\, Brasil
ATTACH;FMTTYPE=image/png:https://gnose.org.br/wp-content/uploads/2025/04/CAPA-AGENDA-AULA-DIA-0605.png
END:VEVENT
BEGIN:VEVENT
DTSTART;TZID=America/Sao_Paulo:20250520T200000
DTEND;TZID=America/Sao_Paulo:20250520T220000
DTSTAMP:20260420T015729
CREATED:20250505T212216Z
LAST-MODIFIED:20250505T212222Z
UID:14733-1747771200-1747778400@gnose.org.br
SUMMARY:REFLEXÕES SOBRE O CAMINHO INICIÁTICO - O ESTREITO CAMINHO ENTRE DOGMAS E MISTÉRIOS
DESCRIPTION:Esse será o tema da nossa próxima Aula presencial\, dia 20 de Maio de 2025\, Terça-feira das 20:00h à 22:00h\, na sede da ABRAGNOSE! \n\n\n\n\nO sentido da vida\n\n\n\nAs etapas do caminho iniciático\n\n\n\nDesafios e superações da iniciação\n\n\n\nO verdadeiro tesouro\n\n\n\nO destino da alma\n\n\n\nOs três pilares do caminho\n\n\n\nA psicologia iniciática\n\n\n\nNascer da água e do espírito\n\n\n\nO sacro-ofício\n\n\n\nAprender a viver\n\n\n\n\nEvento Gratuito\, com prática ao final \n\n\n\nTodos são bem-vindos!
URL:https://gnose.org.br/eventos/reflexoes-sobre-o-caminho-iniciatico-o-estreito-caminho-entre-dogmas-e-misterios-2/
LOCATION:Sede da Abragnose\, Rua José Tomasi\, 824 Santa Felicidade\, Curitiba\, PR\, 82015-630\, Brasil
ATTACH;FMTTYPE=image/png:https://gnose.org.br/wp-content/uploads/2025/05/CAPA-AGENDA-AULA-DIA-2005.png
END:VEVENT
BEGIN:VEVENT
DTSTART;TZID=America/Sao_Paulo:20250524T143000
DTEND;TZID=America/Sao_Paulo:20250524T173000
DTSTAMP:20260420T015729
CREATED:20250509T215948Z
LAST-MODIFIED:20250521T233857Z
UID:14749-1748097000-1748107800@gnose.org.br
SUMMARY:MICROCOSMO - O HOMEM ESPIRITUAL
DESCRIPTION:Esse será o tema do nosso Seminário Especial\, dia 24 de Maio de 2025\, Sábado das 14:30h àS 17:30h\, na sede da ABRAGNOSE! \n\n\n\nO que será abordado nesse Seminário: \n\n\n\n\n⁠O Microcosmo Humano – Como é\, de fato\, a nossa constituição espiritual\n\n\n\nO Autoconhecimento – Quem somos\, podemos controlar o nosso destino e nossa evolução\n\n\n\nOs Sete Corpos – Temos sete vidas.\n\n\n\nOs Egos\, a Personalidade – Quem são os adversários na nossa evolução\n\n\n\nA Energia Vital – Qual sua origem\, como podemos melhor usa-la\n\n\n\nOs Deuses Atômicos – Nós temos estes átomos internamente e eles podem nos ajudar muito\n\n\n\nPercepções Ampliadas – Por que só usamos 5 sentidos se temos 12 ?\n\n\n\nA Magia do Sonho – Nossas mensagens diárias\, como lembrar delas\n\n\n\nMagia da Palavra – O imenso poder do Verbo e de nosso verbo\n\n\n\n\nEvento Gratuito \n\n\n\nTodos são bem-vindos!
URL:https://gnose.org.br/eventos/microcosmo-o-homem-espiritual/
LOCATION:Sede da Abragnose\, Rua José Tomasi\, 824 Santa Felicidade\, Curitiba\, PR\, 82015-630\, Brasil
ATTACH;FMTTYPE=image/png:https://gnose.org.br/wp-content/uploads/2025/05/CAPA-AGENDA-SEMINARIO-DIA-2405.png
END:VEVENT
BEGIN:VEVENT
DTSTART;TZID=America/Sao_Paulo:20250527T200000
DTEND;TZID=America/Sao_Paulo:20250527T220000
DTSTAMP:20260420T015729
CREATED:20250509T220249Z
LAST-MODIFIED:20250511T203806Z
UID:14752-1748376000-1748383200@gnose.org.br
SUMMARY:O PODER DA MEDITAÇÃO CONSCIENTE – E A BUSCA DO CORAÇÃO TRANQUILO
DESCRIPTION:Esse será o tema da nossa próxima Aula presencial\, dia 27 de Maio de 2025\, Terça-feira das 20:00h à 22:00h\, na sede da ABRAGNOSE! \n\n\n\nO que será abordado nesta aula: \n\n\n\n\nQuais são os benefícios e os objetivos da meditação\n\n\n\nA diferença entre Mindfullness e a Meditação Consciente\n\n\n\nA importância da meditação no caminho espiritual\n\n\n\nMeditação é o pão diário do sábio\n\n\n\nMeditar é ouvir Deus\n\n\n\nA meditação sem o divino não traz avanço espiritual\n\n\n\nOs cinco degraus da Meditação profunda\n\n\n\nA meditação como prática na vida diária\n\n\n\nMeditação Shamatha (Shi-ne) – A jornada do meditador em busca da Mente serena e do Coração tranquilo.\n\n\n\n\nEvento Gratuito\, com prática ao final \n\n\n\nTodos são bem vindos!
URL:https://gnose.org.br/eventos/o-poder-da-meditacao-consciente-e-a-busca-do-coracao-tranquilo/
LOCATION:Sede da Abragnose\, Rua José Tomasi\, 824 Santa Felicidade\, Curitiba\, PR\, 82015-630\, Brasil
ATTACH;FMTTYPE=image/png:https://gnose.org.br/wp-content/uploads/2025/05/CAPA-AGENDA-AULA-DIA-2705-1.png
END:VEVENT
END:VCALENDAR