BEGIN:VCALENDAR
VERSION:2.0
PRODID:-//Academia Brasileira de Gnose - ECPv6.7.0//NONSGML v1.0//EN
CALSCALE:GREGORIAN
METHOD:PUBLISH
X-WR-CALNAME:Academia Brasileira de Gnose
X-ORIGINAL-URL:https://gnose.org.br
X-WR-CALDESC:Eventos para Academia Brasileira de Gnose
REFRESH-INTERVAL;VALUE=DURATION:PT1H
X-Robots-Tag:noindex
X-PUBLISHED-TTL:PT1H
BEGIN:VTIMEZONE
TZID:America/Sao_Paulo
BEGIN:STANDARD
TZOFFSETFROM:-0300
TZOFFSETTO:-0300
TZNAME:-03
DTSTART:20250101T000000
END:STANDARD
END:VTIMEZONE
BEGIN:VEVENT
DTSTART;TZID=America/Sao_Paulo:20250401T200000
DTEND;TZID=America/Sao_Paulo:20250401T220000
DTSTAMP:20260420T031153
CREATED:20250312T215057Z
LAST-MODIFIED:20250312T215100Z
UID:14671-1743537600-1743544800@gnose.org.br
SUMMARY:REENCARNAÇÃO\, RESSURREIÇÃO E RETORNO - MORTE\, VIDA E RENASCIMENTOS
DESCRIPTION:O que será abordado nesta aula: \n\n\n\n\nVocê sabia que a palavra Reencarnação foi retirada da Bíblia? Isso ocorreu no segundo Concílio de Constantinopla no ano de 553 dc\n\n\n\nAs diferenças entre Ressureição\, Reencarnação\, Retorno e Recorrência\n\n\n\nPor que poucos acreditam na Reencarnação?\n\n\n\nA Lei da Transmigração das Almas\n\n\n\nOs ciclos de 108 vidas e a importância de se libertar das leis mecânicas da natureza\n\n\n\nO que diz a Ciência sobre a Reencarnação?\n\n\n\nO Julgamento e o Destino da alma após a morte\n\n\n\nOs 3 Mundos :  Inferno\, Terra e Céu\n\n\n\nO que ocorre no momento da morte?\n\n\n\nPor que temos medo da morte?\n\n\n\nQuais são os avanços da ciência nos estudos dos casos reais de EQM? (Experiência Quase Morte)\n\n\n\nComo se preparar em vida para o momento da morte.\n\n\n\n\nEvento Gratuito\, com prática ao final \n\n\n\nTodos são bem vindos!
URL:https://gnose.org.br/eventos/reencarnacao-ressurreicao-e-retorno-morte-vida-e-renascimentos-3/
LOCATION:Sede da Abragnose\, Rua José Tomasi\, 824 Santa Felicidade\, Curitiba\, PR\, 82015-630\, Brasil
ATTACH;FMTTYPE=image/png:https://gnose.org.br/wp-content/uploads/2025/03/CAPA-AGENDA-AULA-DIA-0104.png
END:VEVENT
BEGIN:VEVENT
DTSTART;TZID=America/Sao_Paulo:20250408T200000
DTEND;TZID=America/Sao_Paulo:20250408T220000
DTSTAMP:20260420T031153
CREATED:20250326T224848Z
LAST-MODIFIED:20250403T015126Z
UID:14680-1744142400-1744149600@gnose.org.br
SUMMARY:O HOMEM ESPIRITUAL - POR QUE TEMOS QUE NASCER DE NOVO?
DESCRIPTION:Esse será o tema da nossa próxima Aula presencial\, dia 08 de Abril de 2025\, Terça-feira das 20:00h à 22:00h\, na sede da ABRAGNOSE! \n\n\n\nO que será abordado nesta aula: \n\n\n\n\nPor que temos que nascer da água e do espírito?\n\n\n\n⁠O autêntico homem espiritual\n\n\n\nSua anatomia\n\n\n\nSuas características e poderes internos\n\n\n\nComo evoluir de um ser humano para um ser Divino\n\n\n\nO Nascer da água e do espírito\, tal como Cristo disse a Nicodemos\n\n\n\nO trabalho psicológico\n\n\n\nO trabalho alquímico\n\n\n\nO trabalho para Deus\n\n\n\n⁠Indicações bibliográficas\n\n\n\n\nEvento Gratuito\, com prática ao final \n\n\n\nTodos são bem vindos!
URL:https://gnose.org.br/eventos/o-homem-espiritual-por-que-temos-que-nascer-de-novo/
LOCATION:Sede da Abragnose\, Rua José Tomasi\, 824 Santa Felicidade\, Curitiba\, PR\, 82015-630\, Brasil
ATTACH;FMTTYPE=image/png:https://gnose.org.br/wp-content/uploads/2025/03/CAPA-AGENDA-AULA-DIA-0804.png
END:VEVENT
END:VCALENDAR