BEGIN:VCALENDAR
VERSION:2.0
PRODID:-//Academia Brasileira de Gnose - ECPv6.7.0//NONSGML v1.0//EN
CALSCALE:GREGORIAN
METHOD:PUBLISH
X-WR-CALNAME:Academia Brasileira de Gnose
X-ORIGINAL-URL:https://gnose.org.br
X-WR-CALDESC:Eventos para Academia Brasileira de Gnose
REFRESH-INTERVAL;VALUE=DURATION:PT1H
X-Robots-Tag:noindex
X-PUBLISHED-TTL:PT1H
BEGIN:VTIMEZONE
TZID:America/Sao_Paulo
BEGIN:STANDARD
TZOFFSETFROM:-0300
TZOFFSETTO:-0300
TZNAME:-03
DTSTART:20250101T000000
END:STANDARD
END:VTIMEZONE
BEGIN:VEVENT
DTSTART;TZID=America/Sao_Paulo:20250311T200000
DTEND;TZID=America/Sao_Paulo:20250311T220000
DTSTAMP:20260420T043335
CREATED:20250301T145305Z
LAST-MODIFIED:20250305T205931Z
UID:14646-1741723200-1741730400@gnose.org.br
SUMMARY:PARA ONDE VOCÊ VAI\, CÉU OU INFERNO - DESTINO DA ALMA APÓS A MORTE
DESCRIPTION:O que será abordado nesta aula: \n\n\n\n\nO que somos e o que viemos fazer neste mundo\n\n\n\nPor que sofremos? Por que temos medo de morrer?\n\n\n\nO que acontece na hora e depois da morte\n\n\n\nO que esperam os mortos\n\n\n\nOnde moram os mortos\n\n\n\nO que fazem e como vivem\n\n\n\nQuais os destinos das alma\n\n\n\nO que precisamos fazer para ir para o céu\n\n\n\nQuem e como são julgados os mortos\n\n\n\nQual a diferença entre Retorno\, Reencarnação e Ressurreição\n\n\n\n\nEvento Gratuito\, com prática ao final \n\n\n\nTodos são bem vindos!
URL:https://gnose.org.br/eventos/para-onde-voce-vai-ceu-ou-inferno-destino-da-alma-apos-a-morte/
LOCATION:Sede da Abragnose\, Rua José Tomasi\, 824 Santa Felicidade\, Curitiba\, PR\, 82015-630\, Brasil
ATTACH;FMTTYPE=image/png:https://gnose.org.br/wp-content/uploads/2025/03/CAPA-AGENDA-AULA-DIA-1103.png
END:VEVENT
BEGIN:VEVENT
DTSTART;TZID=America/Sao_Paulo:20250318T200000
DTEND;TZID=America/Sao_Paulo:20250318T220000
DTSTAMP:20260420T043335
CREATED:20250305T204636Z
LAST-MODIFIED:20250305T205440Z
UID:14649-1742328000-1742335200@gnose.org.br
SUMMARY:LIBERTE-SE DA RODA DO DESTINO - APRENDA A SUPERAR SUAS DEBILIDADES
DESCRIPTION:O que será abordado nesta aula: \n\n\n\n\nRoda do Destino ou Lei do Destino (Karma)\, estamos fadados a viver um destino pré-determinado?\n\n\n\nO que ou quem controla nosso destino?\n\n\n\nO destino de nossa vida\, pode ser alterado?\n\n\n\nO que é a Lei do Karma\, como funciona?\n\n\n\nAs dívidas Kármicas são negociáveis ou podem ser perdoadas?\n\n\n\nComo e onde se faz essa negociação?\n\n\n\nComo superar as consequências Kármicas de nossa vida?\n\n\n\nQuais atitudes ou ações que nos geram mais Karma?\n\n\n\n\nEvento Gratuito\, com prática ao final \n\n\n\nTodos são bem vindos!
URL:https://gnose.org.br/eventos/liberte-se-da-roda-do-destino-aprenda-a-superar-suas-debilidades/
LOCATION:Sede da Abragnose\, Rua José Tomasi\, 824 Santa Felicidade\, Curitiba\, PR\, 82015-630\, Brasil
ATTACH;FMTTYPE=image/png:https://gnose.org.br/wp-content/uploads/2025/03/CAPA-AGENDA-AULA-DIA-1803.png
END:VEVENT
BEGIN:VEVENT
DTSTART;TZID=America/Sao_Paulo:20250325T200000
DTEND;TZID=America/Sao_Paulo:20250325T220000
DTSTAMP:20260420T043335
CREATED:20250312T212349Z
LAST-MODIFIED:20250312T212352Z
UID:14660-1742932800-1742940000@gnose.org.br
SUMMARY:A LEI DO KARMA - COMO NEGOCIAR NOSSAS DÍVIDAS KÁRMICAS
DESCRIPTION:O que será abordado nesta aula: \n\n\n\n\nPor que algumas pessoas nascem ricas e cheias de saúde enquanto outras miseráveis e cheias de doenças?\n\n\n\nÉ verdade que Deus castiga assim como algumas religiões pregam por aí?\n\n\n\nExiste uma Lei Espiritual que nos influencia em nossas vidas… mas como podemos mudar nossa vida para melhor para podermos ajudar ao próximo?\n\n\n\nComo negociar nossas dívidas com o Divino que adquirimos nesta vida e também em vidas passadas ?\n\n\n\nPorque algumas pessoas nascem num país miserável e outras em países que até mesmo são considerados paraísos? Nós conseguimos escolher onde podemos nascer ou nos é imposto para podermos pagar o que devemos?\n\n\n\n\nEvento Gratuito\, com prática ao final \n\n\n\nTodos são bem vindos!
URL:https://gnose.org.br/eventos/a-lei-do-karma-como-negociar-nossas-dividas-karmicas-2/
LOCATION:Sede da Abragnose\, Rua José Tomasi\, 824 Santa Felicidade\, Curitiba\, PR\, 82015-630\, Brasil
ATTACH;FMTTYPE=image/png:https://gnose.org.br/wp-content/uploads/2025/03/CAPA-AGENDA-AULA-DIA-2503.png
END:VEVENT
BEGIN:VEVENT
DTSTART;TZID=America/Sao_Paulo:20250326T200000
DTEND;TZID=America/Sao_Paulo:20250326T220000
DTSTAMP:20260420T043335
CREATED:20250326T225804Z
LAST-MODIFIED:20250326T225857Z
UID:14684-1743019200-1743026400@gnose.org.br
SUMMARY:OS PODERES OCULTOS DO HOMEM - POR QUE NÃO ESTAMOS USANDO
DESCRIPTION:Esse será o tema da nossa próxima Aula presencial\, dia 15 de Abril de 2025\, Terça-feira das 20:00h à 22:00h\, na sede da ABRAGNOSE! \n\n\n\n \n\n\n\nEvento Gratuito\, com prática ao final \n\n\n\nTodos são bem vindos!
URL:https://gnose.org.br/eventos/os-poderes-ocultos-do-homem-por-que-nao-estamos-usando/
LOCATION:Sede da Abragnose\, Rua José Tomasi\, 824 Santa Felicidade\, Curitiba\, PR\, 82015-630\, Brasil
ATTACH;FMTTYPE=image/png:https://gnose.org.br/wp-content/uploads/2025/03/CAPA-AGENDA-AULA-DIA-1504.png
END:VEVENT
END:VCALENDAR