BEGIN:VCALENDAR
VERSION:2.0
PRODID:-//Academia Brasileira de Gnose - ECPv6.7.0//NONSGML v1.0//EN
CALSCALE:GREGORIAN
METHOD:PUBLISH
X-ORIGINAL-URL:https://gnose.org.br
X-WR-CALDESC:Eventos para Academia Brasileira de Gnose
REFRESH-INTERVAL;VALUE=DURATION:PT1H
X-Robots-Tag:noindex
X-PUBLISHED-TTL:PT1H
BEGIN:VTIMEZONE
TZID:America/Sao_Paulo
BEGIN:STANDARD
TZOFFSETFROM:-0300
TZOFFSETTO:-0300
TZNAME:-03
DTSTART:20250101T000000
END:STANDARD
END:VTIMEZONE
BEGIN:VEVENT
DTSTART;TZID=America/Sao_Paulo:20251202T200000
DTEND;TZID=America/Sao_Paulo:20251202T220000
DTSTAMP:20260419T184140
CREATED:20251126T234920Z
LAST-MODIFIED:20251126T235839Z
UID:14998-1764705600-1764712800@gnose.org.br
SUMMARY:COMO SE LIVRAR DOS MAUS HÁBITOS - PARA INICIAR UMA REFORMA INTERIOR
DESCRIPTION:Esse será o tema da nossa próxima Aula presencial\, dia 02 de Dezembro de 2025\, Terça-feira das 20:00h à 22:00h\, na sede da ABRAGNOSE! \n\n\n\nO que será abordado nesta aula: \n\n\n\n\nSeja a mudança que você quer ver no mundo\n\n\n\nNossa vida corre por trilhos de hábitos mecânicos e fixos\n\n\n\nReforma íntima requer mudança de hábitos e costumes\n\n\n\nO Despertar da Consciência começa com a dissolução de velhos hábitos que temos na mente\n\n\n\nO Ciclo do hábito: Como se formam e atuam os hábitos em nossa vida\n\n\n\nA mecanicidade de nossas ações\n\n\n\nPor que é tão difícil mudar um hábito?\n\n\n\nHábitos mentais: A importância de dissolver os paradigmas e dogmas\n\n\n\nO primeiro passo para mudar um vício ou mau hábito é tornar-se consciente dele\n\n\n\nAs técnicas para perceber e mudar um mau hábito\n\n\n\nA parábola do cocheiro: compreender nossa real natureza\, para não ser arrastado pelos hábitos\n\n\n\n\nEvento Gratuito\, com prática ao final \n\n\n\nTodos são bem vindos! \n\n\n\n#gnose #gnosis #gnosticismo #samaelaunweor #esoterismo #espiritualidade #religiao #sabedoria #esoterismo #espiritualidade #caminhoespiritual #autoconhecimento #despertarespiritual #habito #mudancadehabito #quebrarparadigmas #consciencia
URL:https://gnose.org.br/eventos/como-se-livrar-dos-maus-habitos-para-iniciar-uma-reforma-interior-2/
LOCATION:Sede da Abragnose\, Rua José Tomasi\, 824 Santa Felicidade\, Curitiba\, PR\, 82015-630\, Brasil
ATTACH;FMTTYPE=image/png:https://gnose.org.br/wp-content/uploads/2025/11/CAPA-AGENDA-AULA-DIA-0212.png
END:VEVENT
END:VCALENDAR