BEGIN:VCALENDAR
VERSION:2.0
PRODID:-//Academia Brasileira de Gnose - ECPv6.7.0//NONSGML v1.0//EN
CALSCALE:GREGORIAN
METHOD:PUBLISH
X-WR-CALNAME:Academia Brasileira de Gnose
X-ORIGINAL-URL:https://gnose.org.br
X-WR-CALDESC:Eventos para Academia Brasileira de Gnose
REFRESH-INTERVAL;VALUE=DURATION:PT1H
X-Robots-Tag:noindex
X-PUBLISHED-TTL:PT1H
BEGIN:VTIMEZONE
TZID:America/Sao_Paulo
BEGIN:STANDARD
TZOFFSETFROM:-0300
TZOFFSETTO:-0300
TZNAME:-03
DTSTART:20250101T000000
END:STANDARD
END:VTIMEZONE
BEGIN:VEVENT
DTSTART;TZID=America/Sao_Paulo:20250628T143000
DTEND;TZID=America/Sao_Paulo:20250628T173000
DTSTAMP:20260420T032237
CREATED:20250619T181617Z
LAST-MODIFIED:20250622T140117Z
UID:14796-1751121000-1751131800@gnose.org.br
SUMMARY:O HOMEM ESPIRITUAL - O NOSSO MICROCOSMO
DESCRIPTION:Esse será o tema do nosso Seminário Especial\, dia 28 de Junho de 2025\, Sábado das 14:30h àS 17:30h\, na sede da ABRAGNOSE! \n\n\n\nO que será abordado nesse Seminário: \n\n\n\n\nO Microcosmo Humano – Como é\, de fato\, a nossa constituição espiritual\n\n\n\nO Autoconhecimento – Quem somos\, podemos controlar o nosso destino e nossa evolução\n\n\n\nOs Sete Corpos – Temos sete vidas.\n\n\n\nOs Egos\, a Personalidade – Quem são os adversários na nossa evolução\n\n\n\nA Energia Vital – Qual sua origem\, como podemos melhor usa-la\n\n\n\nOs Deuses Atômicos – Nós temos estes átomos internamente e eles podem nos ajudar muito\n\n\n\nPercepções Ampliadas – Por que só usamos 5 sentidos se temos 12 ?\n\n\n\nA Magia do Sonho – Nossas mensagens diárias\, como lembrar delas\n\n\n\nMagia da Palavra – O imenso poder do Verbo e de nosso verbo\n\n\n\n\nEvento Gratuito \n\n\n\nTodos são bem-vindos!
URL:https://gnose.org.br/eventos/o-homem-espiritual-o-nosso-microcosmo/
LOCATION:Sede da Abragnose\, Rua José Tomasi\, 824 Santa Felicidade\, Curitiba\, PR\, 82015-630\, Brasil
ATTACH;FMTTYPE=image/png:https://gnose.org.br/wp-content/uploads/2025/06/CAPA-AGENDA-SEMINARIO-DIA-2806.png
END:VEVENT
END:VCALENDAR