BEGIN:VCALENDAR
VERSION:2.0
PRODID:-//Academia Brasileira de Gnose - ECPv6.7.0//NONSGML v1.0//EN
CALSCALE:GREGORIAN
METHOD:PUBLISH
X-WR-CALNAME:Academia Brasileira de Gnose
X-ORIGINAL-URL:https://gnose.org.br
X-WR-CALDESC:Eventos para Academia Brasileira de Gnose
REFRESH-INTERVAL;VALUE=DURATION:PT1H
X-Robots-Tag:noindex
X-PUBLISHED-TTL:PT1H
BEGIN:VTIMEZONE
TZID:America/Sao_Paulo
BEGIN:STANDARD
TZOFFSETFROM:-0300
TZOFFSETTO:-0300
TZNAME:-03
DTSTART:20250101T000000
END:STANDARD
END:VTIMEZONE
BEGIN:VEVENT
DTSTART;TZID=America/Sao_Paulo:20250624T200000
DTEND;TZID=America/Sao_Paulo:20250624T220000
DTSTAMP:20260420T032302
CREATED:20250618T232014Z
LAST-MODIFIED:20250619T145032Z
UID:14790-1750795200-1750802400@gnose.org.br
SUMMARY:AS RELIGIÕES E AS QUESTÕES DA CULPA E DO PECADO - DESFAZENDO AS CRENÇAS DA DANAÇÃO ETERNA
DESCRIPTION:Esse será o tema da nossa próxima Aula presencial\, dia 24 de Junho de 2025\, Terça-feira das 20:00h à 22:00h\, na sede da ABRAGNOSE! \n\n\n\nO que será abordado nesta aula: \n\n\n\n\nExiste apenas uma religião verdadeira?\n\n\n\nExiste a condenação eterna e Deus manda todo mundo pro inferno?\n\n\n\nVocê sabe o quê\, de fato\, é o pecado?\n\n\n\nA questão dos arrependimentos e da culpa\n\n\n\nQuem de verdade vai pro inferno?\n\n\n\nQue tipo de sofrimento há no inferno?\n\n\n\nO diabo é como pintam por aí?\n\n\n\nOu tudo isso é mera manipulação dos dogmáticos religiosos?\n\n\n\nOs grandes mitos da danação eterna. A real finalidade do religare. O que é a religião cósmica universal e como se manifesta nos distintos tempos e lugares\n\n\n\nJesus o Cristo veio para lavar os pecados?\n\n\n\nTem como viver neste mundo sem manchar nossa alma?\n\n\n\nComo fazer para se tornar Puro\, purificar-se?\n\n\n\nQual era a Religião Do tempo de Moisés e o que mudou depois de seus escritos?\n\n\n\n\nEvento Gratuito\, com prática ao final \n\n\n\nTodos são bem vindos!
URL:https://gnose.org.br/eventos/as-religioes-e-as-questoes-da-culpa-e-do-pecado-desfazendo-as-crencas-da-danacao-eterna/
LOCATION:Sede da Abragnose\, Rua José Tomasi\, 824 Santa Felicidade\, Curitiba\, PR\, 82015-630\, Brasil
ATTACH;FMTTYPE=image/png:https://gnose.org.br/wp-content/uploads/2025/06/CAPA-AGENDA-AULA-DIA-2406.png
END:VEVENT
END:VCALENDAR