BEGIN:VCALENDAR
VERSION:2.0
PRODID:-//Academia Brasileira de Gnose - ECPv6.7.0//NONSGML v1.0//EN
CALSCALE:GREGORIAN
METHOD:PUBLISH
X-WR-CALNAME:Academia Brasileira de Gnose
X-ORIGINAL-URL:https://gnose.org.br
X-WR-CALDESC:Eventos para Academia Brasileira de Gnose
REFRESH-INTERVAL;VALUE=DURATION:PT1H
X-Robots-Tag:noindex
X-PUBLISHED-TTL:PT1H
BEGIN:VTIMEZONE
TZID:America/Sao_Paulo
BEGIN:STANDARD
TZOFFSETFROM:-0300
TZOFFSETTO:-0300
TZNAME:-03
DTSTART:20240101T000000
END:STANDARD
END:VTIMEZONE
BEGIN:VEVENT
DTSTART;TZID=America/Sao_Paulo:20241217T200000
DTEND;TZID=America/Sao_Paulo:20241217T220000
DTSTAMP:20260420T114500
CREATED:20241208T155210Z
LAST-MODIFIED:20241208T155237Z
UID:14593-1734465600-1734472800@gnose.org.br
SUMMARY:GRANDES ALMAS\, GRANDES SERVIDORES - APRENDER E SABER VIVER PARA SERVIR E SER FELIZ
DESCRIPTION:O que será abordado nesta aula: \n\n\n\n– A verdadeira felicidade através do serviço ao próximo \n\n\n\n– O Sagrado ofício\, como ajudar no espiritual e material o próximo \n\n\n\n– Compreender a realidade atual para poder mudar o destino \n\n\n\n– As causas que nos mantém atrelados ao sofrimento \n\n\n\n– O poder da mística e da oração \n\n\n\n– Fazer da vida diária um ato de louvor \n\n\n\n– Amar é fazer \n\n\n\n– Como resolver todos nossos problemas através da serenidade \n\n\n\nEvento Gratuito \n\n\n\nTodos são bem vindos!
URL:https://gnose.org.br/eventos/grandes-almas-grandes-servidores-aprender-e-saber-viver-para-servir-e-ser-feliz/
LOCATION:Sede da Abragnose\, Rua José Tomasi\, 824 Santa Felicidade\, Curitiba\, PR\, 82015-630\, Brasil
ATTACH;FMTTYPE=image/png:https://gnose.org.br/wp-content/uploads/2024/12/CAPA-AGENDA-AULA-DIA-1712.png
END:VEVENT
END:VCALENDAR