BEGIN:VCALENDAR
VERSION:2.0
PRODID:-//Academia Brasileira de Gnose - ECPv6.7.0//NONSGML v1.0//EN
CALSCALE:GREGORIAN
METHOD:PUBLISH
X-WR-CALNAME:Academia Brasileira de Gnose
X-ORIGINAL-URL:https://gnose.org.br
X-WR-CALDESC:Eventos para Academia Brasileira de Gnose
REFRESH-INTERVAL;VALUE=DURATION:PT1H
X-Robots-Tag:noindex
X-PUBLISHED-TTL:PT1H
BEGIN:VTIMEZONE
TZID:America/Sao_Paulo
BEGIN:STANDARD
TZOFFSETFROM:-0300
TZOFFSETTO:-0300
TZNAME:-03
DTSTART:20240101T000000
END:STANDARD
END:VTIMEZONE
BEGIN:VEVENT
DTSTART;TZID=America/Sao_Paulo:20241022T200000
DTEND;TZID=America/Sao_Paulo:20241022T220000
DTSTAMP:20260420T184947
CREATED:20241014T220205Z
LAST-MODIFIED:20241014T220212Z
UID:14528-1729627200-1729634400@gnose.org.br
SUMMARY:O SAGRADO FEMININO NA MITOLOGIA E NA HISTÓRIA - COMO SE INSPIRAR NAS DEUSAS E HEROÍNAS
DESCRIPTION:O que será abordado nesta aula: \n\n\n\n\nDepois de toda a emanação do Sagrado Feminino que chega até nós\, sentimos a necessidade  de nos aperfeiçoarmos inspirando-se em algo mais elevado\, Nossa Mãe Divina…\n\n\n\nNo decorrer da História algumas tradições trouxeram arquétipos inspirados nas Deusas e Deuses e suas características Ideais…\n\n\n\nDessa forma a mulher e o Homem encontrariam o equilibrio Ideal entre si e se complementariam…\n\n\n\nMas o Egoísmo começou a desequilibrar toda a Humanidade no decorrer da história…\n\n\n\nComo voltarmo-nos para as Deusas e Deuses despertar nossas virtudes e eliminar de nós todo este Egoísmo que é a raiz de todo mal?\n\n\n\nConseguiremos voltarmos a ser Mulheres e Homens perfeitos vivendo em Harmonia e Felicidade assim como os Deuses?\n\n\n\n\nEvento Gratuito \n\n\n\nTodos são bem vindos!
URL:https://gnose.org.br/eventos/o-sagrado-feminino-na-mitologia-e-na-historia-como-se-inspirar-nas-deusas-e-heroinas/
LOCATION:Sede da Abragnose\, Rua José Tomasi\, 824 Santa Felicidade\, Curitiba\, PR\, 82015-630\, Brasil
ATTACH;FMTTYPE=image/png:https://gnose.org.br/wp-content/uploads/2024/10/CAPA-AGENDA-AULA-DIA-2210.png
END:VEVENT
END:VCALENDAR