BEGIN:VCALENDAR
VERSION:2.0
PRODID:-//Academia Brasileira de Gnose - ECPv6.7.0//NONSGML v1.0//EN
CALSCALE:GREGORIAN
METHOD:PUBLISH
X-ORIGINAL-URL:https://gnose.org.br
X-WR-CALDESC:Eventos para Academia Brasileira de Gnose
REFRESH-INTERVAL;VALUE=DURATION:PT1H
X-Robots-Tag:noindex
X-PUBLISHED-TTL:PT1H
BEGIN:VTIMEZONE
TZID:America/Sao_Paulo
BEGIN:STANDARD
TZOFFSETFROM:-0300
TZOFFSETTO:-0300
TZNAME:-03
DTSTART:20240101T000000
END:STANDARD
END:VTIMEZONE
BEGIN:VEVENT
DTSTART;TZID=America/Sao_Paulo:20240625T200000
DTEND;TZID=America/Sao_Paulo:20240625T200000
DTSTAMP:20260420T200812
CREATED:20240210T172121Z
LAST-MODIFIED:20240210T180939Z
UID:14166-1719345600-1719345600@gnose.org.br
SUMMARY:A PRÁTICA ESPIRITUAL NOS TEMPOS ATUAIS - Como ter uma vida mais Ética e Espiritual
DESCRIPTION:O que será abordado nesta aula: \n\n\n\n\nOnde e como encontrar novas ideias\, novas escolas\, novos mestres e nova metodologia\n\n\n\nComo se vivia e se praticava o espiritual há 2 mil anos?\n\n\n\nQualquer religião serve para quem está começando\n\n\n\nCausas do distanciamento da divindade e do espiritual\n\n\n\nO grande problema hoje é a falta de prática\n\n\n\nA diferença entre a prática religiosa e a prática espiritual\n\n\n\nComo ter uma vida mais ética e espiritual nos tempos atuais\n\n\n\nA missão de vida que cada um recebeu\n\n\n\nSe todos falam de deus e de alma por que tudo parece tão caótico e sofrido?\n\n\n\nSe você não está feliz com sua vida atual que te parece jogar tudo pro alto e recomeçar do zero?\n\n\n\nComo fazer para colocar Deus em nossas vidas em todo instante\n\n\n\nEm qual estado temos que estar para que a nossas orações\, meditações e práticas espirituais alcancem a Deus\n\n\n\nOs passos da Meditação Consciente para se religar com o divino\n\n\n\nO que temos que saber para praticar o princípio gnóstico que é\, viver no mundo sem ser do mundo\n\n\n\n\nEvento Gratuito \n\n\n\nTodos são bem-vindos!
URL:https://gnose.org.br/eventos/a-pratica-espiritual-nos-tempos-atuais-como-ter-uma-vida-mais-etica-e-espiritual/
LOCATION:ACADEMIA BRASILEIRA DE GNOSE\, Rua José Tomasi\, 824 Santa Felicidade\, Curitiba\, PR\, 82015-630\, Brasil
CATEGORIES:Curitiba
ATTACH;FMTTYPE=image/png:https://gnose.org.br/wp-content/uploads/2024/02/AULA-19-AGENDA-A-pratica-espiritual-nos-dias-atuais.png
ORGANIZER;CN="Academia Brasileira de Gnose":MAILTO:faleconosco@gnose.org.br
END:VEVENT
END:VCALENDAR