BEGIN:VCALENDAR
VERSION:2.0
PRODID:-//Academia Brasileira de Gnose - ECPv6.7.0//NONSGML v1.0//EN
CALSCALE:GREGORIAN
METHOD:PUBLISH
X-ORIGINAL-URL:https://gnose.org.br
X-WR-CALDESC:Eventos para Academia Brasileira de Gnose
REFRESH-INTERVAL;VALUE=DURATION:PT1H
X-Robots-Tag:noindex
X-PUBLISHED-TTL:PT1H
BEGIN:VTIMEZONE
TZID:America/Sao_Paulo
BEGIN:STANDARD
TZOFFSETFROM:-0300
TZOFFSETTO:-0300
TZNAME:-03
DTSTART:20240101T000000
END:STANDARD
END:VTIMEZONE
BEGIN:VEVENT
DTSTART;TZID=America/Sao_Paulo:20240618T200000
DTEND;TZID=America/Sao_Paulo:20240618T200000
DTSTAMP:20260420T200851
CREATED:20240210T171009Z
LAST-MODIFIED:20240210T180835Z
UID:14164-1718740800-1718740800@gnose.org.br
SUMMARY:NIDANAS: AS CAUSAS IGNORADAS DO SOFRIMENTO HUMANO - Existem Sofrimentos Inúteis sem Causas?
DESCRIPTION:O que será abordado nesta aula: \n\n\n\n\nO que são as Nidanas\n\n\n\nPor que nascemos\, por que sofremos\, por que morremos?\n\n\n\nO que os sofrimentos querem nos ensinar?\n\n\n\nO princípio da dependência universal\n\n\n\nÉ possível escapar-se da armadilha existencial?\n\n\n\nOs véus de Maya\n\n\n\nIlusões e realidades da vida\n\n\n\nDesapego: a chave para a liberação.\n\n\n\n\nEvento Gratuito \n\n\n\nTodos são bem-vindos!
URL:https://gnose.org.br/eventos/nidanas-as-causas-ignoradas-do-sofrimento-humano-existem-sofrimentos-inuteis-sem-causas/
LOCATION:ACADEMIA BRASILEIRA DE GNOSE\, Rua José Tomasi\, 824 Santa Felicidade\, Curitiba\, PR\, 82015-630\, Brasil
CATEGORIES:Curitiba
ATTACH;FMTTYPE=image/png:https://gnose.org.br/wp-content/uploads/2024/02/AULA-18-AGENDA-Nidanas.png
ORGANIZER;CN="Academia Brasileira de Gnose":MAILTO:faleconosco@gnose.org.br
END:VEVENT
END:VCALENDAR