BEGIN:VCALENDAR
VERSION:2.0
PRODID:-//Academia Brasileira de Gnose - ECPv6.7.0//NONSGML v1.0//EN
CALSCALE:GREGORIAN
METHOD:PUBLISH
X-ORIGINAL-URL:https://gnose.org.br
X-WR-CALDESC:Eventos para Academia Brasileira de Gnose
REFRESH-INTERVAL;VALUE=DURATION:PT1H
X-Robots-Tag:noindex
X-PUBLISHED-TTL:PT1H
BEGIN:VTIMEZONE
TZID:America/Sao_Paulo
BEGIN:STANDARD
TZOFFSETFROM:-0300
TZOFFSETTO:-0300
TZNAME:-03
DTSTART:20240101T000000
END:STANDARD
END:VTIMEZONE
BEGIN:VEVENT
DTSTART;TZID=America/Sao_Paulo:20240611T200000
DTEND;TZID=America/Sao_Paulo:20240611T200000
DTSTAMP:20260420T200851
CREATED:20240210T162352Z
LAST-MODIFIED:20240210T180731Z
UID:14161-1718136000-1718136000@gnose.org.br
SUMMARY:O SEGREDO DOS ALQUIMISTAS - O que Escondiam e Buscavam os Alquimistas de todos os Tempos
DESCRIPTION:O que será abordado nesta aula: \n\n\n\n\nPor que esconderam sua arte sob símbolos indecifráveis?\n\n\n\nA ciência de acelerar os processos evolutivos da natureza\n\n\n\nOs grandes e principais símbolos da alquimia: pedra filosofal\, athanor\, enxofre ou fogo alquímico\, arsênico\, ouro e chumbo\n\n\n\nVITRIOL: Visita o interior da Terra e retificando-se [mudando a si mesmo] encontrará a pedra oculta\n\n\n\nQuem pode ser um alquimista?\n\n\n\nA cruz como símbolo alquímico\n\n\n\nO sagrado INRI: Ignis Natura Renovatur Integra\n\n\n\nOs quatro evangelhos são alquímicos?\n\n\n\nJesus foi um Alquimista? \n\n\n\nOs mandamentos da alquimia\n\n\n\nComo renascer da água e do Espírito para entrar no Reino de Deus?\n\n\n\nQual é a prova máxima que são submetidos os Iniciados que almejam a Magistratura do Espírito.\n\n\n\n\nEvento Gratuito \n\n\n\nTodos são bem-vindos!
URL:https://gnose.org.br/eventos/o-segredo-dos-alquimistas-o-que-escondiam-e-buscavam-os-alquimistas-de-todos-os-tempos/
LOCATION:ACADEMIA BRASILEIRA DE GNOSE\, Rua José Tomasi\, 824 Santa Felicidade\, Curitiba\, PR\, 82015-630\, Brasil
CATEGORIES:Curitiba
ATTACH;FMTTYPE=image/png:https://gnose.org.br/wp-content/uploads/2024/02/AULA-17-AGENDA-O-segredo-dos-alquimistas.png
ORGANIZER;CN="Academia Brasileira de Gnose":MAILTO:faleconosco@gnose.org.br
END:VEVENT
END:VCALENDAR