BEGIN:VCALENDAR
VERSION:2.0
PRODID:-//Academia Brasileira de Gnose - ECPv6.7.0//NONSGML v1.0//EN
CALSCALE:GREGORIAN
METHOD:PUBLISH
X-ORIGINAL-URL:https://gnose.org.br
X-WR-CALDESC:Eventos para Academia Brasileira de Gnose
REFRESH-INTERVAL;VALUE=DURATION:PT1H
X-Robots-Tag:noindex
X-PUBLISHED-TTL:PT1H
BEGIN:VTIMEZONE
TZID:America/Sao_Paulo
BEGIN:STANDARD
TZOFFSETFROM:-0300
TZOFFSETTO:-0300
TZNAME:-03
DTSTART:20240101T000000
END:STANDARD
END:VTIMEZONE
BEGIN:VEVENT
DTSTART;TZID=America/Sao_Paulo:20240521T200000
DTEND;TZID=America/Sao_Paulo:20240521T200000
DTSTAMP:20260420T213220
CREATED:20240210T152235Z
LAST-MODIFIED:20240210T180116Z
UID:14153-1716321600-1716321600@gnose.org.br
SUMMARY:MESTRES\, MENSAGEIROS\, PROFETAS E AVATARES - A Missão dos Enviados por Deus a este Mundo
DESCRIPTION:O que será abordado nesta aula: \n\n\n\n\nOs 10 Avatares de Vishnu\n\n\n\nA missão dos mensageiros divinos\n\n\n\nQuem são os ungidos por Deus\n\n\n\nO que é e como se tornar um Mestre de Sabedoria\n\n\n\nA autorealização íntima espiritual\n\n\n\nOs grandes mensageiros da história espiritual.\n\n\n\n\nEvento Gratuito \n\n\n\nTodos são bem-vindos!
URL:https://gnose.org.br/eventos/mestres-mensageiros-profetas-e-avatares-a-missao-dos-enviados-por-deus-a-este-mundo/
LOCATION:ACADEMIA BRASILEIRA DE GNOSE\, Rua José Tomasi\, 824 Santa Felicidade\, Curitiba\, PR\, 82015-630\, Brasil
CATEGORIES:Curitiba
ATTACH;FMTTYPE=image/png:https://gnose.org.br/wp-content/uploads/2024/02/AULA-14-AGENDA-Mestres-mensageiros-profetas-e-avatares.png
ORGANIZER;CN="Academia Brasileira de Gnose":MAILTO:faleconosco@gnose.org.br
END:VEVENT
END:VCALENDAR