BEGIN:VCALENDAR
VERSION:2.0
PRODID:-//Academia Brasileira de Gnose - ECPv6.7.0//NONSGML v1.0//EN
CALSCALE:GREGORIAN
METHOD:PUBLISH
X-WR-CALNAME:Academia Brasileira de Gnose
X-ORIGINAL-URL:https://gnose.org.br
X-WR-CALDESC:Eventos para Academia Brasileira de Gnose
REFRESH-INTERVAL;VALUE=DURATION:PT1H
X-Robots-Tag:noindex
X-PUBLISHED-TTL:PT1H
BEGIN:VTIMEZONE
TZID:America/Sao_Paulo
BEGIN:STANDARD
TZOFFSETFROM:-0300
TZOFFSETTO:-0300
TZNAME:-03
DTSTART:20240101T000000
END:STANDARD
END:VTIMEZONE
BEGIN:VEVENT
DTSTART;TZID=America/Sao_Paulo:20240514T200000
DTEND;TZID=America/Sao_Paulo:20240514T200000
DTSTAMP:20260420T213618
CREATED:20240210T151302Z
LAST-MODIFIED:20240210T175855Z
UID:14151-1715716800-1715716800@gnose.org.br
SUMMARY:O SIMBOLISMO DOS SONHOS - Como Interpretar seus Significados
DESCRIPTION:O que será abordado nesta aula: \n\n\n\n\nSonhos lúcidos e conscientes\n\n\n\nOs sonhos\, seus símbolos e mensagens do subconsciente\n\n\n\nPor que temos pesadelos?\n\n\n\nPráticas e exercícios para despertar durante os sonhos\n\n\n\nMorfeu: o deus dos sonhos\n\n\n\nAssistir o próprio sonho\n\n\n\nA interpretação dos sonhos\n\n\n\nAs influências da vida diária nos sonhos\n\n\n\nComo podemos aproveitar os sonhos para nossa jornada espiritual\n\n\n\nQual a diferença entre sonhos e visões?\n\n\n\nPor que a faculdade onírica está tão atrofiada?\n\n\n\n\nEvento Gratuito \n\n\n\nTodos são bem-vindos!
URL:https://gnose.org.br/eventos/o-simbolismo-dos-sonhos-como-interpretar-seus-significados/
LOCATION:ACADEMIA BRASILEIRA DE GNOSE\, Rua José Tomasi\, 824 Santa Felicidade\, Curitiba\, PR\, 82015-630\, Brasil
CATEGORIES:Curitiba
ATTACH;FMTTYPE=image/png:https://gnose.org.br/wp-content/uploads/2024/02/AULA-13-AGENDA-O-simbolismo-dos-sonhos.png
ORGANIZER;CN="Academia Brasileira de Gnose":MAILTO:faleconosco@gnose.org.br
END:VEVENT
END:VCALENDAR