BEGIN:VCALENDAR
VERSION:2.0
PRODID:-//Academia Brasileira de Gnose - ECPv6.7.0//NONSGML v1.0//EN
CALSCALE:GREGORIAN
METHOD:PUBLISH
X-WR-CALNAME:Academia Brasileira de Gnose
X-ORIGINAL-URL:https://gnose.org.br
X-WR-CALDESC:Eventos para Academia Brasileira de Gnose
REFRESH-INTERVAL;VALUE=DURATION:PT1H
X-Robots-Tag:noindex
X-PUBLISHED-TTL:PT1H
BEGIN:VTIMEZONE
TZID:America/Sao_Paulo
BEGIN:STANDARD
TZOFFSETFROM:-0300
TZOFFSETTO:-0300
TZNAME:-03
DTSTART:20240101T000000
END:STANDARD
END:VTIMEZONE
BEGIN:VEVENT
DTSTART;TZID=America/Sao_Paulo:20240507T200000
DTEND;TZID=America/Sao_Paulo:20240507T200000
DTSTAMP:20260420T213016
CREATED:20240210T125523Z
LAST-MODIFIED:20240210T175754Z
UID:14149-1715112000-1715112000@gnose.org.br
SUMMARY:OS DEUSES ATÔMICOS E AS CORRENTES ELEMENTAIS - As Forças Divinas que Circulam nos Corpos Energéticos
DESCRIPTION:O que será abordado nesta aula: \n\n\n\n\nAs forças e poderes atômicos do homem\n\n\n\nNous o Átomo Mestre\n\n\n\nNossas forças divinas internas\n\n\n\nCorpo\, alma e espírito\n\n\n\nKundalini\n\n\n\nMantras e palavras de poder\n\n\n\nSonhos e estados jinas\n\n\n\nTranse\, êxtase e mediunidade\n\n\n\nO intercessor elemental\n\n\n\nComo podemos atuar com os elementais da natureza para curar e proteger pessoas\, ambientes e lares\n\n\n\nA magia dos elementais com a medicina oculta das plantas\n\n\n\nComo utilizar as forças da natureza para impulsionar o trabalho espiritual\n\n\n\nQuais as consequências na realização de rituais sem o devido preparo.\n\n\n\n\nEvento Gratuito \n\n\n\nTodos são bem-vindos!
URL:https://gnose.org.br/eventos/os-deuses-atomicos-e-as-correntes-elementais-as-forcas-divinas-que-circulam-nos-corpos-energeticos/
LOCATION:ACADEMIA BRASILEIRA DE GNOSE\, Rua José Tomasi\, 824 Santa Felicidade\, Curitiba\, PR\, 82015-630\, Brasil
CATEGORIES:Curitiba
ATTACH;FMTTYPE=image/png:https://gnose.org.br/wp-content/uploads/2024/02/AULA-12-AGENDA-Os-deuses-atomicos.png
ORGANIZER;CN="Academia Brasileira de Gnose":MAILTO:faleconosco@gnose.org.br
END:VEVENT
END:VCALENDAR