BEGIN:VCALENDAR
VERSION:2.0
PRODID:-//Academia Brasileira de Gnose - ECPv6.7.0//NONSGML v1.0//EN
CALSCALE:GREGORIAN
METHOD:PUBLISH
X-ORIGINAL-URL:https://gnose.org.br
X-WR-CALDESC:Eventos para Academia Brasileira de Gnose
REFRESH-INTERVAL;VALUE=DURATION:PT1H
X-Robots-Tag:noindex
X-PUBLISHED-TTL:PT1H
BEGIN:VTIMEZONE
TZID:America/Sao_Paulo
BEGIN:STANDARD
TZOFFSETFROM:-0300
TZOFFSETTO:-0300
TZNAME:-03
DTSTART:20240101T000000
END:STANDARD
END:VTIMEZONE
BEGIN:VEVENT
DTSTART;TZID=America/Sao_Paulo:20240416T200000
DTEND;TZID=America/Sao_Paulo:20240416T200000
DTSTAMP:20260420T231143
CREATED:20240209T212833Z
LAST-MODIFIED:20240310T190227Z
UID:14138-1713297600-1713297600@gnose.org.br
SUMMARY:MUITO ALÉM DA BÍBLIA: COMO DEUS FEZ O MUNDO - Origem\, Formação e Desenvolvimento do Universo
DESCRIPTION:A tradição judaico-cristã diz\, na bíblia\, que Deus fez o mundo em 7 dias. Acreditamos que as pessoas já ouviram falar disso. E a grande maioria nunca foi nem quis ir mais a fundo nessas questões da origem da vida. Por isso\, decidimos fazer uma aula especial sobre esse tema. Prometemos ir bem além daquilo que diz a bíblia. \n\n\n\nDentre vários outros aspectos\, vamos esclarecer o que são esses “7 dias”\, vamos revelar a realidade do mito de Adão e Eva\, vamos falar sobre o Espírito planetário da Terra\, ou seja\, o Deus-regente de nosso mundo\, vamos também explanar sobre o que são os dias e as noites cósmicas. \n\n\n\nPor fim\, vamos abordar o tema de como o mundo foi criado a partir do “nada”. O evangelho de João começa dizendo que no princípio era o Verbo\, e o Verbo estava com Deus\, e o Verbo era Deus. Todas as coisas foram feitas por ele\, e sem ele nada do que foi feito se fez. Nele estava a vida\, e a vida era a luz dos homens. E a luz resplandece nas trevas\, e as trevas não a compreenderam. \n\n\n\nAfinal\, o que é esse Verbo? \n\n\n\nO que será abordado nesta aula: \n\n\n\n\nA Cosmogênese\n\n\n\nOs 7 dias da Creação\n\n\n\nOs cosmocratores: Elohim (deuses e deusas) construtores do mundo\n\n\n\nO mito de Adão e Eva\n\n\n\nRondas e cadeias planetárias\n\n\n\nA descida do planeta Terra ao mundo físico\n\n\n\nO Espírito planetário terrestre\n\n\n\nDias e noites cósmicas\n\n\n\nO Raio da Criação\n\n\n\nO Ano Sideral\n\n\n\nQual a idade atual da Terra\n\n\n\nEstá a Terra isolada espiritualmente?\n\n\n\nA Era de Aquário\n\n\n\n\nEvento Gratuito \n\n\n\nCompareça \n\n\n\nTodos são bem-vindos!
URL:https://gnose.org.br/eventos/muito-alem-da-biblia-como-deus-fez-o-mundo-origem-formacao-e-desenvolvimento-do-universo/
LOCATION:ACADEMIA BRASILEIRA DE GNOSE\, Rua José Tomasi\, 824 Santa Felicidade\, Curitiba\, PR\, 82015-630\, Brasil
CATEGORIES:Curitiba
ATTACH;FMTTYPE=image/png:https://gnose.org.br/wp-content/uploads/2024/02/AULA-9-AGENDA-Muito-Alem-da-Biblia.png
ORGANIZER;CN="Academia Brasileira de Gnose":MAILTO:faleconosco@gnose.org.br
END:VEVENT
END:VCALENDAR