BEGIN:VCALENDAR
VERSION:2.0
PRODID:-//Academia Brasileira de Gnose - ECPv6.7.0//NONSGML v1.0//EN
CALSCALE:GREGORIAN
METHOD:PUBLISH
X-ORIGINAL-URL:https://gnose.org.br
X-WR-CALDESC:Eventos para Academia Brasileira de Gnose
REFRESH-INTERVAL;VALUE=DURATION:PT1H
X-Robots-Tag:noindex
X-PUBLISHED-TTL:PT1H
BEGIN:VTIMEZONE
TZID:America/Sao_Paulo
BEGIN:STANDARD
TZOFFSETFROM:-0300
TZOFFSETTO:-0300
TZNAME:-03
DTSTART:20240101T000000
END:STANDARD
END:VTIMEZONE
BEGIN:VEVENT
DTSTART;TZID=America/Sao_Paulo:20240409T200000
DTEND;TZID=America/Sao_Paulo:20240409T200000
DTSTAMP:20260420T231101
CREATED:20240209T211707Z
LAST-MODIFIED:20240310T185935Z
UID:14136-1712692800-1712692800@gnose.org.br
SUMMARY:EGO\, MENTE\, PERSONALIDADE E CONSCIÊNCIA - Os Fundamentos da Estrutura Anímica
DESCRIPTION:O objetivo desta aula presencial é o de apresentar o real quadro psicológico da humanidade atual. Iremos detalhar a composição do ego e como ele nos afeta no dia a dia. Também iremos expor as relações entre o ego\, a mente e a personalidade\, pois muita gente confunde essas três realidades interiores. Distinguir ou evidenciar as diferenças entre esses 3 elementos é muito importante para melhorar nossa condição de vida espiritual ou mesmo para podermos evoluir espiritualmente. \n\n\n\nPor fim\, trataremos do tema da consciência. Ao contrário do que pensam e acreditam as pessoas\, a consciência é uma realidade viva e presente. Podemos dizer que ela é a presença divina em nós\, mas que no momento está estagnada desde nossa infância. \n\n\n\nPortanto\, temos que alimentá-la e cuidá-la como se fosse uma criança e criarmos condições para a RETOMADA de sua evolução. \n\n\n\nO que será abordado nesta aula: \n\n\n\n\nO real estado psicológico da humanidade atual\n\n\n\nO ego como conjunto de criaturas mentais\n\n\n\nA formação da personalidade nos primeiros anos de vida\n\n\n\nOs 4 estados ou níveis de consciência\n\n\n\nA importância de uma boa educação direcionada aos 3 cérebros (mental\, emocional e motriz)\n\n\n\nAprender a distinguir as ações da mente\, do ego e da personalidade\n\n\n\nQual é a verdadeira função da nossa Mente\n\n\n\nPorque a Personalidade é necessária em nossa existência\n\n\n\nA Escola Pitagórica e o ensino da matemática\, da música e do corpo físico\n\n\n\nMens sana in corpore sano\n\n\n\nA nova educação para o desenvolvimento do Ser\n\n\n\n\nEvento Gratuito \n\n\n\nCompareça \n\n\n\nTodos são bem-vindos!
URL:https://gnose.org.br/eventos/ego-mente-personalidade-e-consciencia-os-fundamentos-da-estrutura-animica/
LOCATION:ACADEMIA BRASILEIRA DE GNOSE\, Rua José Tomasi\, 824 Santa Felicidade\, Curitiba\, PR\, 82015-630\, Brasil
CATEGORIES:Curitiba
ATTACH;FMTTYPE=image/png:https://gnose.org.br/wp-content/uploads/2024/02/AULA-8-AGENDA-Ego-Mente-Personalidae-Consciencia.png
ORGANIZER;CN="Academia Brasileira de Gnose":MAILTO:faleconosco@gnose.org.br
END:VEVENT
END:VCALENDAR