BEGIN:VCALENDAR
VERSION:2.0
PRODID:-//Academia Brasileira de Gnose - ECPv6.7.0//NONSGML v1.0//EN
CALSCALE:GREGORIAN
METHOD:PUBLISH
X-WR-CALNAME:Academia Brasileira de Gnose
X-ORIGINAL-URL:https://gnose.org.br
X-WR-CALDESC:Eventos para Academia Brasileira de Gnose
REFRESH-INTERVAL;VALUE=DURATION:PT1H
X-Robots-Tag:noindex
X-PUBLISHED-TTL:PT1H
BEGIN:VTIMEZONE
TZID:America/Sao_Paulo
BEGIN:STANDARD
TZOFFSETFROM:-0300
TZOFFSETTO:-0300
TZNAME:-03
DTSTART:20250101T000000
END:STANDARD
END:VTIMEZONE
BEGIN:VEVENT
DTSTART;TZID=America/Sao_Paulo:20251111T200000
DTEND;TZID=America/Sao_Paulo:20251111T220000
DTSTAMP:20260419T183050
CREATED:20251028T100532Z
LAST-MODIFIED:20251103T221117Z
UID:14955-1762891200-1762898400@gnose.org.br
SUMMARY:EXPRESSAR OS VALORES DA ALMA COMO FILOSOFIA DE VIDA - PARA SERVIR INTEGRALMENTE\, INCONDICIONALMENTE
DESCRIPTION:Esse será o tema da nossa próxima Aula presencial\, dia 11 de Novembro de 2025\, Terça-feira das 20:00h à 22:00h\, na sede da ABRAGNOSE! \n\n\n\nO que será abordado nesta aula: \n\n\n\n\nExpressar os valores da alma como filosofia de vida\, sacrificando o inferior pelo superior\n\n\n\n⁠Verdadeira porta para libertação de nossos sofrimentos\n\n\n\nA grande prática é a conduta reta para encontrar o caminho da Luz e doar-se incondicionalmente\n\n\n\n⁠Sistema de práticas e a mística nos tempos atuais\n\n\n\n⁠A prática do amor ao próximo para nascer de novo\n\n\n\n⁠Caminho da ação para cumprir o dever sagrado\n\n\n\n⁠O poder da oração e a vontade consciente\n\n\n\n⁠3 fatores de revolução da consciência para purificar a alma\n\n\n\n⁠Trabalhar para entender que o Karma é um mestre silencioso que nos ensina o que temos que mudar\n\n\n\n\nEvento Gratuito\, com prática ao final \n\n\n\nTodos são bem vindos!
URL:https://gnose.org.br/eventos/expressar-os-valores-da-alma-para-ter-conduta-reta-e-amar-integralmente/
LOCATION:Sede da Abragnose\, Rua José Tomasi\, 824 Santa Felicidade\, Curitiba\, PR\, 82015-630\, Brasil
ATTACH;FMTTYPE=image/png:https://gnose.org.br/wp-content/uploads/2025/11/CAPA-AGENDA-AULA-DIA-1111.png
END:VEVENT
BEGIN:VEVENT
DTSTART;TZID=America/Sao_Paulo:20251118T200000
DTEND;TZID=America/Sao_Paulo:20251118T220000
DTSTAMP:20260419T183050
CREATED:20251028T124637Z
LAST-MODIFIED:20251031T000931Z
UID:14961-1763496000-1763503200@gnose.org.br
SUMMARY:O CAMINHO DA MÍSTICA E DA DEVOÇÃO PARA O DESENVOLVIMENTO ESPIRITUAL
DESCRIPTION:Esse será o tema da nossa próxima Aula presencial\, dia 18 de Novembro de 2025\, Terça-feira das 20:00h à 22:00h\, na sede da ABRAGNOSE! \n\n\n\nO que será abordado nesta aula: \n\n\n\n·      A força da Mística e da Devoção no trabalho espiritual\n\n\n\n·      Como despertar o Divino em nós e onde encontrar Deus\n\n\n\n·      O devoto e o místico do século XXI\n\n\n\n·      O poder da oração associado a meditação\n\n\n\n·      As preces\, mantras\, rituais no caminho iniciático\n\n\n\n“Sem a manifestação do Divino em nossas vidas\, cultivamos misérias\, dores\, enfermidades\, violências\, exploração do próximo\, morte\, destruição sob as mais variadas formas… Asseguramos nossa involução\, nosso destino à segunda morte!” \n\n\n\nEvento Gratuito\, com prática ao final \n\n\n\nTodos são bem vindos!
URL:https://gnose.org.br/eventos/o-caminho-da-mistica-e-da-devocao-para-o-desenvolvimento-espiritual-2/
LOCATION:Sede da Abragnose\, Rua José Tomasi\, 824 Santa Felicidade\, Curitiba\, PR\, 82015-630\, Brasil
ATTACH;FMTTYPE=image/png:https://gnose.org.br/wp-content/uploads/2025/10/CAPA-AGENDA-AULA-DIA-1811.png
END:VEVENT
BEGIN:VEVENT
DTSTART;TZID=America/Sao_Paulo:20251125T200000
DTEND;TZID=America/Sao_Paulo:20251125T220000
DTSTAMP:20260419T183050
CREATED:20251028T143938Z
LAST-MODIFIED:20251119T234337Z
UID:14965-1764100800-1764108000@gnose.org.br
SUMMARY:COMO COLOCAR DEUS EM CADA MOMENTO DE NOSSA VIDA - DOAR-SE INCONDICIONALMENTE
DESCRIPTION:Esse será o tema da nossa próxima Aula presencial\, dia 25 de Novembro de 2025\, Terça-feira das 20:00h à 22:00h\, na sede da ABRAGNOSE! \n\n\n\nO que será abordado nesse Seminário: \n\n\n\n\nPrecisamos compreender a importância e o funcionamento das práticas\n\n\n\nAprender um caminho que nos leva a Deus. Você vai conhecer a chave\, o código\, a senha para acessar Deus.\n\n\n\nComo fazer para colocar Deus em nossas vidas em todo instante\n\n\n\nEm qual estado temos que estar para que a nossas orações\, meditações e práticas espirituais alcancem a Deus\n\n\n\nFazer dos atos diários um hino de louvor à Deus\n\n\n\nO que temos que compreender para eliminar os sofrimentos da nossa vida\n\n\n\nO que temos que saber para praticar o princípio gnóstico que é\, viver no mundo sem ser do mundo\n\n\n\nPassar a ver o mundo como uma grande escola de aperfeiçoamento espiritual\n\n\n\nComo as práticas nos ajudam exercer o terceiro fator de revolução da consciência para aprender a viver\, saber viver\, servir e ser feliz\n\n\n\n\nEvento Gratuito\, com prática ao final \n\n\n\nTodos são bem vindos!
URL:https://gnose.org.br/eventos/como-colocar-deus-em-cada-momento-de-nossa-vida/
LOCATION:Sede da Abragnose\, Rua José Tomasi\, 824 Santa Felicidade\, Curitiba\, PR\, 82015-630\, Brasil
ATTACH;FMTTYPE=image/png:https://gnose.org.br/wp-content/uploads/2025/10/CAPA-AGENDA-AULA-DIA-2511.png
END:VEVENT
BEGIN:VEVENT
DTSTART;TZID=America/Sao_Paulo:20251129T143000
DTEND;TZID=America/Sao_Paulo:20251129T173000
DTSTAMP:20260419T183050
CREATED:20251028T171431Z
LAST-MODIFIED:20251028T171657Z
UID:14970-1764426600-1764437400@gnose.org.br
SUMMARY:APRENDER A VIVER PARA SABER VIVER E SERVIR - DOAR-SE INCONDICIONALMENTE
DESCRIPTION:Esse será o tema do nosso Seminário Especial\, dia 29 de Novembro de 2025\, Sábado das 14:30h às 17:30h\, na sede da ABRAGNOSE! \n\n\n\nO que será abordado nesse Seminário: \n\n\n\n\nPrecisamos compreender a importância e o funcionamento das práticas\n\n\n\nAprender um caminho que nos leva a Deus. Você vai conhecer a chave\, o código\, a senha para acessar Deus.\n\n\n\nComo fazer para colocar Deus em nossas vidas em todo instante\n\n\n\nEm qual estado temos que estar para que a nossas orações\, meditações e práticas espirituais alcancem a Deus\n\n\n\nFazer dos atos diários um hino de louvor à Deus\n\n\n\nO que temos que compreender para eliminar os sofrimentos da nossa vida\n\n\n\nO que temos que saber para praticar o princípio gnóstico que é\, viver no mundo sem ser do mundo\n\n\n\nPassar a ver o mundo como uma grande escola de aperfeiçoamento espiritual\n\n\n\nComo as práticas nos ajudam exercer o terceiro fator de revolução da consciência para aprender a viver\, saber viver\, servir e ser feliz\n\n\n\n\nEvento Gratuito \n\n\n\nTodos são bem-vindos!
URL:https://gnose.org.br/eventos/aprender-a-viver-para-saber-viver-e-servir-doar-se-incondicionalmente/
LOCATION:Sede da Abragnose\, Rua José Tomasi\, 824 Santa Felicidade\, Curitiba\, PR\, 82015-630\, Brasil
ATTACH;FMTTYPE=image/png:https://gnose.org.br/wp-content/uploads/2025/10/CAPA-AGENDA-SEMINARIO-DIA-2611.png
END:VEVENT
END:VCALENDAR