BEGIN:VCALENDAR
VERSION:2.0
PRODID:-//Academia Brasileira de Gnose - ECPv6.7.0//NONSGML v1.0//EN
CALSCALE:GREGORIAN
METHOD:PUBLISH
X-ORIGINAL-URL:https://gnose.org.br
X-WR-CALDESC:Eventos para Academia Brasileira de Gnose
REFRESH-INTERVAL;VALUE=DURATION:PT1H
X-Robots-Tag:noindex
X-PUBLISHED-TTL:PT1H
BEGIN:VTIMEZONE
TZID:America/Sao_Paulo
BEGIN:STANDARD
TZOFFSETFROM:-0300
TZOFFSETTO:-0300
TZNAME:-03
DTSTART:20240101T000000
END:STANDARD
END:VTIMEZONE
BEGIN:VEVENT
DTSTART;TZID=America/Sao_Paulo:20241022T200000
DTEND;TZID=America/Sao_Paulo:20241022T220000
DTSTAMP:20260420T130355
CREATED:20241014T220205Z
LAST-MODIFIED:20241014T220212Z
UID:14528-1729627200-1729634400@gnose.org.br
SUMMARY:O SAGRADO FEMININO NA MITOLOGIA E NA HISTÓRIA - COMO SE INSPIRAR NAS DEUSAS E HEROÍNAS
DESCRIPTION:O que será abordado nesta aula: \n\n\n\n\nDepois de toda a emanação do Sagrado Feminino que chega até nós\, sentimos a necessidade  de nos aperfeiçoarmos inspirando-se em algo mais elevado\, Nossa Mãe Divina…\n\n\n\nNo decorrer da História algumas tradições trouxeram arquétipos inspirados nas Deusas e Deuses e suas características Ideais…\n\n\n\nDessa forma a mulher e o Homem encontrariam o equilibrio Ideal entre si e se complementariam…\n\n\n\nMas o Egoísmo começou a desequilibrar toda a Humanidade no decorrer da história…\n\n\n\nComo voltarmo-nos para as Deusas e Deuses despertar nossas virtudes e eliminar de nós todo este Egoísmo que é a raiz de todo mal?\n\n\n\nConseguiremos voltarmos a ser Mulheres e Homens perfeitos vivendo em Harmonia e Felicidade assim como os Deuses?\n\n\n\n\nEvento Gratuito \n\n\n\nTodos são bem vindos!
URL:https://gnose.org.br/eventos/o-sagrado-feminino-na-mitologia-e-na-historia-como-se-inspirar-nas-deusas-e-heroinas/
LOCATION:Sede da Abragnose\, Rua José Tomasi\, 824 Santa Felicidade\, Curitiba\, PR\, 82015-630\, Brasil
ATTACH;FMTTYPE=image/png:https://gnose.org.br/wp-content/uploads/2024/10/CAPA-AGENDA-AULA-DIA-2210.png
END:VEVENT
BEGIN:VEVENT
DTSTART;TZID=America/Sao_Paulo:20241026T150000
DTEND;TZID=America/Sao_Paulo:20241026T180000
DTSTAMP:20260420T130355
CREATED:20241019T201007Z
LAST-MODIFIED:20241019T201444Z
UID:14537-1729954800-1729965600@gnose.org.br
SUMMARY:ESPIRITUALIDADE PRÁTICA - CAMINHO QUE LEVA A DEUS
DESCRIPTION:Esse será o tema do nosso próximo Seminário Especial\, dia 26 de Outubro de 2024\, Sábado das 15:00h à 18:00h\, na sede da ABRAGNOSE! \n\n\n\nO que será abordado nesta aula: \n\n\n\n\nPrecisamos compreender a importância e o funcionamento das práticas\n\n\n\nAprender um caminho que nos leva a Deus. Você vai conhecer a chave\, o código\, a senha para acessar Deus.\n\n\n\nComo fazer para colocar Deus em nossas vidas em todo instante\n\n\n\nEm qual estado temos que estar para que a nossas orações\, meditações e práticas espirituais alcancem a Deus\n\n\n\nFazer dos atos diários um hino de louvor à Deus   – O que temos que compreender para eliminar os sofrimentos da nossa vida\n\n\n\nOs passos da Meditação Consciente para se religar com o divino\n\n\n\nO que temos que saber para praticar o princípio gnóstico que é\, viver no mundo sem ser do mundo\n\n\n\nPassar a ver o mundo como uma grande escola de aperfeiçoamento espiritual\n\n\n\nComo as práticas nos ajudam exercer o terceiro fator de revolução da consciência para aprender a viver\, saber viver\, servir e ser feliz\n\n\n\n\nEvento Gratuito \n\n\n\nTodos são bem-vindos!
URL:https://gnose.org.br/eventos/espiritualidade-pratica-caminho-que-leva-a-deus/
LOCATION:Sede da Abragnose\, Rua José Tomasi\, 824 Santa Felicidade\, Curitiba\, PR\, 82015-630\, Brasil
ATTACH;FMTTYPE=image/png:https://gnose.org.br/wp-content/uploads/2024/10/CAPA-AGENDA-SEMINARIO-DIA-2610.png
END:VEVENT
BEGIN:VEVENT
DTSTART;TZID=America/Sao_Paulo:20241029T200000
DTEND;TZID=America/Sao_Paulo:20241029T220000
DTSTAMP:20260420T130355
CREATED:20241003T153855Z
LAST-MODIFIED:20241003T153858Z
UID:14519-1730232000-1730239200@gnose.org.br
SUMMARY:COMO SE LIVRAR DOS MAUS HÁBITOS - PARA INICIAR UMA REFORMA INTERIOR
DESCRIPTION:O que será abordado nesta aula: \n\n\n\n\nQueremos um mundo melhor\, mas será que queremos ser melhores?\n\n\n\nReforma íntima requer mudança de hábitos e costumes\n\n\n\nO Despertar da Consciência começa com a dissolução de velhos hábitos que temos na mente\n\n\n\nComo se formam e atuam os hábitos em nossa vida\n\n\n\nA mecanicidade de nossas ações\n\n\n\nPor que é tão difícil mudar um hábito?\n\n\n\nA importância de dissolver os paradigmas e dogmas\n\n\n\nO primeiro passo para mudar um vício ou mau hábito é tornar-se consciente dele\n\n\n\nAs técnicas para perceber e mudar um hábito\n\n\n\n\nEvento Gratuito \n\n\n\nTodos são bem vindos!
URL:https://gnose.org.br/eventos/como-se-livrar-dos-maus-habitos-para-iniciar-uma-reforma-interior/
LOCATION:Sede da Abragnose\, Rua José Tomasi\, 824 Santa Felicidade\, Curitiba\, PR\, 82015-630\, Brasil
ATTACH;FMTTYPE=image/png:https://gnose.org.br/wp-content/uploads/2024/09/CAPA-AGENDA-AULA-DIA-2910.png
END:VEVENT
END:VCALENDAR