BEGIN:VCALENDAR
VERSION:2.0
PRODID:-//Academia Brasileira de Gnose - ECPv6.7.0//NONSGML v1.0//EN
CALSCALE:GREGORIAN
METHOD:PUBLISH
X-WR-CALNAME:Academia Brasileira de Gnose
X-ORIGINAL-URL:https://gnose.org.br
X-WR-CALDESC:Eventos para Academia Brasileira de Gnose
REFRESH-INTERVAL;VALUE=DURATION:PT1H
X-Robots-Tag:noindex
X-PUBLISHED-TTL:PT1H
BEGIN:VTIMEZONE
TZID:America/Sao_Paulo
BEGIN:STANDARD
TZOFFSETFROM:-0300
TZOFFSETTO:-0300
TZNAME:-03
DTSTART:20240101T000000
END:STANDARD
END:VTIMEZONE
BEGIN:VEVENT
DTSTART;TZID=America/Sao_Paulo:20240903T200000
DTEND;TZID=America/Sao_Paulo:20240903T200000
DTSTAMP:20260420T142157
CREATED:20240822T011454Z
LAST-MODIFIED:20240822T011501Z
UID:14397-1725393600-1725393600@gnose.org.br
SUMMARY:OS MISTÉRIOS DO ALQUIMISTA GNÓSTICO - REVELAÇÕES DE UMA VIDA SECRETA
DESCRIPTION:O que será abordado nesta aula: \n\n\n\n• O que é necessário para ser um alquimista \n\n\n\n• O que é a Pedra Filosofal\, como vive-la? \n\n\n\n• O lar do alquimista Gnóstico \n\n\n\n• O que é a supra sexualidade \n\n\n\n• Os poderes do sexo como fator de equilíbrio e espiritualização \n\n\n\n• Aspectos gerais para a vida do alquimista \n\n\n\nEvento Gratuito \n\n\n\nTodos são bem vindos!
URL:https://gnose.org.br/eventos/os-misterios-do-alquimista-gnostico-revelacoes-de-uma-vida-secreta/
LOCATION:Sede da Abragnose\, Rua José Tomasi\, 824 Santa Felicidade\, Curitiba\, PR\, 82015-630\, Brasil
ATTACH;FMTTYPE=image/png:https://gnose.org.br/wp-content/uploads/2024/08/CAPA-AGENDA-AULA-DIA-0309.png
END:VEVENT
BEGIN:VEVENT
DTSTART;TZID=America/Sao_Paulo:20240910T200000
DTEND;TZID=America/Sao_Paulo:20240910T200000
DTSTAMP:20260420T142157
CREATED:20240822T012317Z
LAST-MODIFIED:20240822T012543Z
UID:14399-1725998400-1725998400@gnose.org.br
SUMMARY:O DESPERTAR DA FELICIDADE: COMO SUPERAR NOSSAS DEBILIDADES
DESCRIPTION:O que será abordado nesta aula: \n\n\n\n• O que é a verdadeira felicidade \n\n\n\n• As causas dos dramas de nossa existência \n\n\n\n• Eles estão em nós e não nos outros \n\n\n\n• Como saber\, compreender e superá-los \n\n\n\n• O poder Divino que temos internamente \n\n\n\n• A dissolução das adversidades \n\n\n\n• Resgate a vontade e alegria de viver \n\n\n\n• O poder da autotransformação em nossa vida \n\n\n\nEvento Gratuito \n\n\n\nTodos são bem vindos!
URL:https://gnose.org.br/eventos/o-despertar-da-felicidade-como-superar-nossas-debilidades/
LOCATION:Sede da Abragnose\, Rua José Tomasi\, 824 Santa Felicidade\, Curitiba\, PR\, 82015-630\, Brasil
ATTACH;FMTTYPE=image/png:https://gnose.org.br/wp-content/uploads/2024/08/CAPA-AGENDA-AULA-DIA-1009.png
END:VEVENT
BEGIN:VEVENT
DTSTART;TZID=America/Sao_Paulo:20240924T200000
DTEND;TZID=America/Sao_Paulo:20240924T200000
DTSTAMP:20260420T142157
CREATED:20240823T161533Z
LAST-MODIFIED:20240823T161539Z
UID:14409-1727208000-1727208000@gnose.org.br
SUMMARY:O SAGRADO OFÍCIO DA MULHER - COMO DESPERTAR O SAGRADO FEMININO EM NÓS
DESCRIPTION:O que será abordado nesta aula: \n\n\n\n• Você sabia que além de sua mãe aqui na terra\, você também tem uma Mãe Divina \n\n\n\n• Mas de que modo podemos conhecer e nos aproximar de nossa Mãe Divina? \n\n\n\n• A mulher\, como expressão da Grande Mãe Divina\, possui a NATUREZA da maternidade\, da doação\, do amor\, do cuidado\, da nutrição\, da educação\, da cura\, da proteção\, do sacrifício. \n\n\n\n• “Uma mãe merece inteira veneração de todos os seres que povoam o Universo.” \n\n\n\nEvento Gratuito \n\n\n\nTodos são bem vindos! 
URL:https://gnose.org.br/eventos/o-sagrado-oficio-da-mulher-como-despertar-o-sagrado-feminino-em-nos/
LOCATION:Sede da Abragnose\, Rua José Tomasi\, 824 Santa Felicidade\, Curitiba\, PR\, 82015-630\, Brasil
ATTACH;FMTTYPE=image/png:https://gnose.org.br/wp-content/uploads/2024/08/CAPA-AGENDA-AULA-DIA-2409.png
END:VEVENT
BEGIN:VEVENT
DTSTART;TZID=America/Sao_Paulo:20240928T150000
DTEND;TZID=America/Sao_Paulo:20240928T180000
DTSTAMP:20260420T142157
CREATED:20240823T161927Z
LAST-MODIFIED:20240823T162054Z
UID:14411-1727535600-1727546400@gnose.org.br
SUMMARY:NUMEROLOGIA\, TAROT E KABALA - OS NÚMEROS SÃO VIVOS
DESCRIPTION:O que será abordado neste seminário: \n\n\n\n• A numerologia prática na sua vida \n\n\n\n• O significado dos números \n\n\n\n• Qual o seu número guia \n\n\n\n• A Divindade nos Números\, Tarot e Kabala \n\n\n\n• A Divindade em nós \n\n\n\n• A compreensão da matemática como guia na autorrealização individual \n\n\n\nEvento Gratuito \n\n\n\nTodos são bem vindos!
URL:https://gnose.org.br/eventos/numerologia-tarot-e-kabala-os-numeros-sao-vivos/
LOCATION:Sede da Abragnose\, Rua José Tomasi\, 824 Santa Felicidade\, Curitiba\, PR\, 82015-630\, Brasil
ATTACH;FMTTYPE=image/png:https://gnose.org.br/wp-content/uploads/2024/08/CAPA-AGENDA-AULA-DIA-2809.png
END:VEVENT
END:VCALENDAR