BEGIN:VCALENDAR
VERSION:2.0
PRODID:-//Academia Brasileira de Gnose - ECPv6.7.0//NONSGML v1.0//EN
CALSCALE:GREGORIAN
METHOD:PUBLISH
X-WR-CALNAME:Academia Brasileira de Gnose
X-ORIGINAL-URL:https://gnose.org.br
X-WR-CALDESC:Eventos para Academia Brasileira de Gnose
REFRESH-INTERVAL;VALUE=DURATION:PT1H
X-Robots-Tag:noindex
X-PUBLISHED-TTL:PT1H
BEGIN:VTIMEZONE
TZID:America/Sao_Paulo
BEGIN:STANDARD
TZOFFSETFROM:-0300
TZOFFSETTO:-0300
TZNAME:-03
DTSTART:20240101T000000
END:STANDARD
END:VTIMEZONE
BEGIN:VEVENT
DTSTART;TZID=America/Sao_Paulo:20240319T200000
DTEND;TZID=America/Sao_Paulo:20240319T200000
DTSTAMP:20260420T230530
CREATED:20240209T005615Z
LAST-MODIFIED:20240210T174758Z
UID:14123-1710878400-1710878400@gnose.org.br
SUMMARY:POR QUE HÁ POUCOS INICIADOS NO MUNDO?  A Iniciação é algo Difícil ou apenas Trabalhosa
DESCRIPTION:O que será abordado nesta aula: \n\n\n\n\nA seriedade necessária aos temas espirituais\n\n\n\nIniciação não é feita de teorias nem de leituras de livros\n\n\n\nA necessidade de praticar e viver as realidades iniciáticas\n\n\n\nO mito da falta de tempo\n\n\n\nAs questões práticas de viver conduta reta\n\n\n\nCompromissos\, pactos e negociações com a Lei Divina\n\n\n\nMudar a forma de pensar\, sentir e agir\n\n\n\nPor que poucos aceitam trabalhar para a obra de Deus na Terra?\n\n\n\nO chamado do coração e o período da busca\n\n\n\nOs dois círculos\, o labirinto das teorias e o lábaro do templo\n\n\n\nTipos de escolas para os iniciados\n\n\n\nO que são as Três montanhas e as provas iniciáticas?\n\n\n\nPorque nem todos os seres humanos são capazes de chegar a autorrealização\n\n\n\nPorque nem todas as Mônadas ou chispas divinas\, emanadas do seio do Espírito Universal de Vida\, têm interesse pelo mestrado?\n\n\n\n\nEvento Gratuito \n\n\n\nTodos são bem-vindos!
URL:https://gnose.org.br/eventos/por-que-ha-poucos-iniciados-no-mundo-a-iniciacao-e-algo-dificil-ou-apenas-trabalhosa/
LOCATION:ACADEMIA BRASILEIRA DE GNOSE\, Rua José Tomasi\, 824 Santa Felicidade\, Curitiba\, PR\, 82015-630\, Brasil
CATEGORIES:Curitiba
ATTACH;FMTTYPE=image/png:https://gnose.org.br/wp-content/uploads/2024/02/AULA-5-AGENDA-POR-QUE-HA-POUCOS-INICIADOS-NO-MINDO.png
ORGANIZER;CN="Academia Brasileira de Gnose":MAILTO:faleconosco@gnose.org.br
END:VEVENT
BEGIN:VEVENT
DTSTART;TZID=America/Sao_Paulo:20240326T200000
DTEND;TZID=America/Sao_Paulo:20240326T200000
DTSTAMP:20260420T230530
CREATED:20240209T110346Z
LAST-MODIFIED:20240210T174904Z
UID:14125-1711483200-1711483200@gnose.org.br
SUMMARY:ANATOMIA OCULTA: OS 7 CORPOS - Chakras\, Sentidos Ocultos e o Homem Espiritual
DESCRIPTION:O que será abordado nesta aula: \n\n\n\n\nCorpo físico\, corpo etérico\, corpo astral\, corpo mental\, corpo da vontade\, corpo da consciência e corpo do espírito\n\n\n\nOs 7 chakras\n\n\n\nKundalini\n\n\n\nOs poderes ocultos\n\n\n\nPercepções extra-sensoriais (clarividência\, clariaudiência\, levitação\, telepatia etc.)\n\n\n\nA preparação do corpo físico para o renascimento espiritual\n\n\n\nOs 5 centros psicofisiológicos e suas funções (intelectual\, emocional\, motor\, sexual e instintivo)\n\n\n\nO sistema nervoso cérebro espinhal e o trono de Deus\n\n\n\nOs poderes dos órgãos e das glândulas com suas funções biológicas\, cármicas e espirituais\n\n\n\nNosso estado interior atual e a transformação necessária.\n\n\n\n\nEvento Gratuito \n\n\n\nTodos são bem-vindos!
URL:https://gnose.org.br/eventos/anatomia-oculta-os-7-corpos-chakras-sentidos-ocultos-e-o-homem-espiritual/
LOCATION:ACADEMIA BRASILEIRA DE GNOSE\, Rua José Tomasi\, 824 Santa Felicidade\, Curitiba\, PR\, 82015-630\, Brasil
CATEGORIES:Curitiba
ATTACH;FMTTYPE=image/png:https://gnose.org.br/wp-content/uploads/2024/02/AULA-6-AGENDA-ANATOMIA-OCULTA-Os-7-CORPOS.png
ORGANIZER;CN="Academia Brasileira de Gnose":MAILTO:faleconosco@gnose.org.br
END:VEVENT
BEGIN:VEVENT
DTSTART;TZID=America/Sao_Paulo:20240329T150000
DTEND;TZID=America/Sao_Paulo:20240329T180000
DTSTAMP:20260420T230530
CREATED:20240209T112548Z
LAST-MODIFIED:20240306T130829Z
UID:14128-1711724400-1711735200@gnose.org.br
SUMMARY:SIMBOLOGIA ESOTÉRICA DA SEMANA SANTA - Muito além das tradições populares da Páscoa e do Natal
DESCRIPTION:O que será abordado neste Seminário: \n\n\n\n\nAs Origens e Objetivos das Religiões\n\n\n\nO Cristo Cósmico e o Cristo-Sol\n\n\n\nQuem de verdade foi Jesus de Nazareth\n\n\n\nMuito além do Natal e da Páscoa\n\n\n\nQuem são os cristificados\n\n\n\nOs Milagres do Cristo: fatos ou simbologia?\n\n\n\nO sentido oculto do Pai Nosso\n\n\n\nOs mensageiros divinos\n\n\n\nAs bases  do cristianismo\n\n\n\nOs Mistérios Fálicos\n\n\n\nA Alquimia presente no cristianismo\n\n\n\nAs Misteriosas Iniciações Venustas\n\n\n\n\nEvento Gratuito \n\n\n\nTodos são bem-vindos!
URL:https://gnose.org.br/eventos/simbologia-esoterica-da-semana-santa-o-amor-universal-do-cristo-sempre-vivo/
LOCATION:ACADEMIA BRASILEIRA DE GNOSE\, Rua José Tomasi\, 824 Santa Felicidade\, Curitiba\, PR\, 82015-630\, Brasil
CATEGORIES:Curitiba
ORGANIZER;CN="Academia Brasileira de Gnose":MAILTO:faleconosco@gnose.org.br
END:VEVENT
BEGIN:VEVENT
DTSTART;TZID=America/Sao_Paulo:20240330T150000
DTEND;TZID=America/Sao_Paulo:20240330T180000
DTSTAMP:20260420T230530
CREATED:20240209T113827Z
LAST-MODIFIED:20240210T175106Z
UID:14130-1711810800-1711821600@gnose.org.br
SUMMARY:MEDITAÇÃO CONSCIENTE - A Busca do Coração Tranquilo
DESCRIPTION:O que será abordado neste Seminário: \n\n\n\n\nQuais são os benefícios e objetivos da meditação\n\n\n\nA diferença entre mindfullness e a meditação mística\n\n\n\nO mecanismo e a divisão da mente humana\n\n\n\nA importância da meditação no caminho espiritual\n\n\n\nMeditação é o pão diário do sábio\n\n\n\nMeditar é ouvir Deus\n\n\n\nOs cinco degraus da meditação profunda\n\n\n\nA meditação como prática na vida diária\n\n\n\nO que é meditação shamatha (shi-ne)\n\n\n\n\nEvento Gratuito \n\n\n\nTodos são bem-vindos!
URL:https://gnose.org.br/eventos/meditacao-consciente-a-busca-do-coracao-tranquilo/
LOCATION:ACADEMIA BRASILEIRA DE GNOSE\, Rua José Tomasi\, 824 Santa Felicidade\, Curitiba\, PR\, 82015-630\, Brasil
CATEGORIES:Curitiba
ATTACH;FMTTYPE=image/png:https://gnose.org.br/wp-content/uploads/2024/02/SEMINARIO-PASCOA-AGENDA-Meditacao-Consciente.png
ORGANIZER;CN="Academia Brasileira de Gnose":MAILTO:faleconosco@gnose.org.br
END:VEVENT
END:VCALENDAR