BEGIN:VCALENDAR
VERSION:2.0
PRODID:-//Academia Brasileira de Gnose - ECPv6.7.0//NONSGML v1.0//EN
CALSCALE:GREGORIAN
METHOD:PUBLISH
X-WR-CALNAME:Academia Brasileira de Gnose
X-ORIGINAL-URL:https://gnose.org.br
X-WR-CALDESC:Eventos para Academia Brasileira de Gnose
REFRESH-INTERVAL;VALUE=DURATION:PT1H
X-Robots-Tag:noindex
X-PUBLISHED-TTL:PT1H
BEGIN:VTIMEZONE
TZID:America/Sao_Paulo
BEGIN:STANDARD
TZOFFSETFROM:-0300
TZOFFSETTO:-0300
TZNAME:-03
DTSTART:20250101T000000
END:STANDARD
END:VTIMEZONE
BEGIN:VEVENT
DTSTART;TZID=America/Sao_Paulo:20250225T200000
DTEND;TZID=America/Sao_Paulo:20250225T220000
DTSTAMP:20260420T080023
CREATED:20250126T152307Z
LAST-MODIFIED:20250305T205823Z
UID:14620-1740513600-1740520800@gnose.org.br
SUMMARY:POR QUE HÁ POUCOS INICIADOS NO MUNDO - FALTAM ESCOLAS OU AS PESSOAS FOGEM DO CAMINHO DA LUZ
DESCRIPTION:O que será abordado nesta aula: \n\n\n\n\nAs Escolas de Mistérios e sua importância na história\n\n\n\nA missão das Escolas de Mistérios\n\n\n\nPor que amamos mais as trevas do que a Luz?\n\n\n\n⁠A consciência e nosso estado atual\n\n\n\nAs inquietudes espirituais ou o chamado da Alma\n\n\n\nA busca por respostas\n\n\n\nA disciplina iniciática do Espírito\n\n\n\nO esforço pessoal\n\n\n\nAs dificuldades do caminho\n\n\n\nO verdadeiro tesouro.\n\n\n\n\nEvento Gratuito\, com prática ao final \n\n\n\nTodos são bem vindos!
URL:https://gnose.org.br/eventos/por-que-ha-poucos-iniciados-no-mundo-faltam-escolas-ou-as-pessoas-fogem-do-caminho-da-luz/
LOCATION:ACADEMIA BRASILEIRA DE GNOSE\, Rua José Tomasi\, 824 Santa Felicidade\, Curitiba\, PR\, 82015-630\, Brasil
ATTACH;FMTTYPE=image/png:https://gnose.org.br/wp-content/uploads/2025/01/CAPA-AGENDA-AULA-DIA-2502.png
END:VEVENT
END:VCALENDAR