BEGIN:VCALENDAR
VERSION:2.0
PRODID:-//Academia Brasileira de Gnose - ECPv6.7.0//NONSGML v1.0//EN
CALSCALE:GREGORIAN
METHOD:PUBLISH
X-WR-CALNAME:Academia Brasileira de Gnose
X-ORIGINAL-URL:https://gnose.org.br
X-WR-CALDESC:Eventos para Academia Brasileira de Gnose
REFRESH-INTERVAL;VALUE=DURATION:PT1H
X-Robots-Tag:noindex
X-PUBLISHED-TTL:PT1H
BEGIN:VTIMEZONE
TZID:America/Sao_Paulo
BEGIN:STANDARD
TZOFFSETFROM:-0300
TZOFFSETTO:-0300
TZNAME:-03
DTSTART:20230101T000000
END:STANDARD
END:VTIMEZONE
BEGIN:VEVENT
DTSTART;TZID=America/Sao_Paulo:20231031T200000
DTEND;TZID=America/Sao_Paulo:20231031T220000
DTSTAMP:20260421T044828
CREATED:20190910T145635Z
LAST-MODIFIED:20230829T223521Z
UID:11035-1698782400-1698789600@gnose.org.br
SUMMARY:VIDA INTERIOR Eterno Presente
DESCRIPTION:O que será abordado nesta aula:– Assim como existe uma vida externa\, também existe uma vida interna– Por que e como o homem atual foi tirado dos mundos internos– Quem é o homem interior e qual a diferença do homem exterior– Se não percebemos todas as leis da natureza dentro de nós\, jamais vamos encontrar fora– As pessoas não querem se dar conta que a vida interior atrai as circunstâncias exteriores \n“As pessoas que vivem sonhando no mundo físico\, vivem sonhando também nos mundos internos durante as horas em que o corpo físico está dormindo. Necessitamos deixar de sonhar nos mundos internos. Quando deixamos de sonhar no mundo físico\, despertamos aqui e agora\, e esse despertar aparece nos mundos internos. ”Samael Aun Weor – do livro A Gnose Cristã do Século XX \nTodos são bem-vindos. \nVenha participar!
URL:https://gnose.org.br/eventos/vida-interior-eterno-presente/
LOCATION:Rua José Tomasi\, 824 Santa Felicidade\, Rua José Tomasi\, 824 Santa Felicidade\, Curitiba\, PR\, 82015-630\, Brasil
CATEGORIES:Curitiba
ATTACH;FMTTYPE=image/jpeg:https://gnose.org.br/wp-content/uploads/2019/09/VIDA-INTERIOR.jpg
ORGANIZER;CN="Academia Brasileira de Gnose":MAILTO:faleconosco@gnose.org.br
END:VEVENT
END:VCALENDAR