BEGIN:VCALENDAR
VERSION:2.0
PRODID:-//Academia Brasileira de Gnose - ECPv6.7.0//NONSGML v1.0//EN
CALSCALE:GREGORIAN
METHOD:PUBLISH
X-ORIGINAL-URL:https://gnose.org.br
X-WR-CALDESC:Eventos para Academia Brasileira de Gnose
REFRESH-INTERVAL;VALUE=DURATION:PT1H
X-Robots-Tag:noindex
X-PUBLISHED-TTL:PT1H
BEGIN:VTIMEZONE
TZID:America/Sao_Paulo
BEGIN:STANDARD
TZOFFSETFROM:-0300
TZOFFSETTO:-0300
TZNAME:-03
DTSTART:20230101T000000
END:STANDARD
END:VTIMEZONE
BEGIN:VEVENT
DTSTART;TZID=America/Sao_Paulo:20230822T200000
DTEND;TZID=America/Sao_Paulo:20230822T220000
DTSTAMP:20260422T062252
CREATED:20190630T150914Z
LAST-MODIFIED:20230618T223208Z
UID:10489-1692734400-1692741600@gnose.org.br
SUMMARY:O PODER DA SERENIDADE - Caminho da Plenitude
DESCRIPTION:Principais pontos abordados nesta aula: \n– Por onde começar e por que desenvolver a serenidade– Como alcançar a felicidade através da paciência e da ação consciente– Como superar o jeito de ser que nos complica a vida– O coração tranquilo e a verdadeira e legítima felicidade– O Santo Jó no século XXI \n“Aqueles que sofrem em seus lares deveriam multiplicar sua humildade\, sua paciência e serenidade. Não contestar com más palavras\, não tiranizar o próximo\, não atormentar os que nos rodeiam\, saber desculpar os defeitos alheios com uma paciência multiplicada até o infinito. Assim pagariam seu karma e se tornariam melhores. ” Samael Aun Weor –  do livro – Sim! Há inferno diabo e karma \nTodos são bem-vindos. \nVenha participar!
URL:https://gnose.org.br/eventos/o-poder-da-serenidade-caminho-da-plenitude/
LOCATION:Rua José Tomasi\, 824 Santa Felicidade\, Rua José Tomasi\, 824 Santa Felicidade\, Curitiba\, PR\, 82015-630\, Brasil
CATEGORIES:Curitiba
ATTACH;FMTTYPE=image/jpeg:https://gnose.org.br/wp-content/uploads/2019/06/O-PODER-DA-SERENIDADE-1.jpg
ORGANIZER;CN="Academia Brasileira de Gnose":MAILTO:faleconosco@gnose.org.br
END:VEVENT
END:VCALENDAR