BEGIN:VCALENDAR
VERSION:2.0
PRODID:-//Academia Brasileira de Gnose - ECPv6.7.0//NONSGML v1.0//EN
CALSCALE:GREGORIAN
METHOD:PUBLISH
X-WR-CALNAME:Academia Brasileira de Gnose
X-ORIGINAL-URL:https://gnose.org.br
X-WR-CALDESC:Eventos para Academia Brasileira de Gnose
REFRESH-INTERVAL;VALUE=DURATION:PT1H
X-Robots-Tag:noindex
X-PUBLISHED-TTL:PT1H
BEGIN:VTIMEZONE
TZID:America/Sao_Paulo
BEGIN:STANDARD
TZOFFSETFROM:-0300
TZOFFSETTO:-0300
TZNAME:-03
DTSTART:20240101T000000
END:STANDARD
END:VTIMEZONE
BEGIN:VEVENT
DTSTART;TZID=America/Sao_Paulo:20240730T200000
DTEND;TZID=America/Sao_Paulo:20240730T200000
DTSTAMP:20260421T233756
CREATED:20240622T030239Z
LAST-MODIFIED:20240622T030245Z
UID:14318-1722369600-1722369600@gnose.org.br
SUMMARY:O HOMEM ESPIRITUAL - CONHEÇA SEU UNIVERSO INTERIOR
DESCRIPTION:O que será abordado nesta aula: \n\n\n\n\nO Absoluto como origem de todo o criado.\n\n\n\nOs sete kosmos e o número de leis que os regem.\n\n\n\nOs 10 sephirotes da Kabala.\n\n\n\nOs sete corpos da constituição espiritual do homem.\n\n\n\nO homem exterior é o todo?\n\n\n\nQuem é o homem interior?\n\n\n\nOnde está o Reino de Deus?\n\n\n\n\nEvento Gratuito \n\n\n\nTodos são bem vindos!
URL:https://gnose.org.br/eventos/o-homem-espiritual-conheca-seu-universo-interior/
LOCATION:Sede da Abragnose\, Rua José Tomasi\, 824 Santa Felicidade\, Curitiba\, PR\, 82015-630\, Brasil
ATTACH;FMTTYPE=image/png:https://gnose.org.br/wp-content/uploads/2024/06/AULA-DIA-30-CAPA-AGENDA-O-HOMEM-ESPIRITUAL.png
ORGANIZER;CN="Academia Brasileira de Gnose":MAILTO:faleconosco@gnose.org.br
END:VEVENT
END:VCALENDAR